BEGIN:VCALENDAR
VERSION:2.0
PRODID:-//Evangelische Mennoniten-Gemeinde Bern, Alttäufer - ECPv6.15.19//NONSGML v1.0//EN
CALSCALE:GREGORIAN
METHOD:PUBLISH
X-WR-CALNAME:Evangelische Mennoniten-Gemeinde Bern, Alttäufer
X-ORIGINAL-URL:https://mennoniten-bern.ch
X-WR-CALDESC:Veranstaltungen für Evangelische Mennoniten-Gemeinde Bern, Alttäufer
REFRESH-INTERVAL;VALUE=DURATION:PT1H
X-Robots-Tag:noindex
X-PUBLISHED-TTL:PT1H
BEGIN:VTIMEZONE
TZID:Europe/Berlin
BEGIN:DAYLIGHT
TZOFFSETFROM:+0100
TZOFFSETTO:+0200
TZNAME:CEST
DTSTART:20240331T010000
END:DAYLIGHT
BEGIN:STANDARD
TZOFFSETFROM:+0200
TZOFFSETTO:+0100
TZNAME:CET
DTSTART:20241027T010000
END:STANDARD
BEGIN:DAYLIGHT
TZOFFSETFROM:+0100
TZOFFSETTO:+0200
TZNAME:CEST
DTSTART:20250330T010000
END:DAYLIGHT
BEGIN:STANDARD
TZOFFSETFROM:+0200
TZOFFSETTO:+0100
TZNAME:CET
DTSTART:20251026T010000
END:STANDARD
BEGIN:DAYLIGHT
TZOFFSETFROM:+0100
TZOFFSETTO:+0200
TZNAME:CEST
DTSTART:20260329T010000
END:DAYLIGHT
BEGIN:STANDARD
TZOFFSETFROM:+0200
TZOFFSETTO:+0100
TZNAME:CET
DTSTART:20261025T010000
END:STANDARD
END:VTIMEZONE
BEGIN:VEVENT
DTSTART;VALUE=DATE:20250529
DTEND;VALUE=DATE:20250530
DTSTAMP:20260421T202543
CREATED:20240913T123303Z
LAST-MODIFIED:20240913T125245Z
UID:10000416-1748476800-1748563199@mennoniten-bern.ch
SUMMARY:Mut zur Liebe – Täuferbewegung@500
DESCRIPTION:Am 29. Mai 2025 findet findet in Zürich eine grosse Gedenkveranstaltung statt. Die Mennonitische Weltkonferenz lädt zu einem öffentlichen Feier- und Gedenktag ein unter dem Thema „Mut zur Liebe – Täuferbewegung@500“ Die Veranstaltung wird u.a.unterstützt durch die Stadt Zürich\, ev.-ref. Landeskirche des Kantons Zürich\, die KMS und viele weitere Träger. \nInformationen zum Anlass unter \nAnabaptism@500 MWC  \nKonferenz Mennoniten der Schweiz
URL:https://mennoniten-bern.ch/event/mut-zur-liebe-taeuferbewegung500/
LOCATION:Zürich
CATEGORIES:Konferenz der Mennoniten der Schweiz
END:VEVENT
BEGIN:VEVENT
DTSTART;TZID=Europe/Berlin:20250121T170000
DTEND;TZID=Europe/Berlin:20250121T200000
DTSTAMP:20260421T202543
CREATED:20240913T130020Z
LAST-MODIFIED:20241211T170446Z
UID:10000423-1737478800-1737489600@mennoniten-bern.ch
SUMMARY:Gedenkfeier 500 Jahre Täuferbewegung
DESCRIPTION:Am 21. Januar 1525 fanden im Rahmen der Reformation in Zürich die ersten Taufen an Erwachsenen statt\, die schliesslich zum Bruch in der Reformationsbewegung führten. Dieser Tag markiert so das Entstehen der Täuferbewegung als ein eigenständiger Zweig der Reformation. \nDie Konferenz der Mennoniten der Schweiz KMS lädt die Gemeinden der KMS ein zu einer Gedenkfeier in Zürich. Diese wird\, im Gegensatz zur grossen Feier vom 29. Mai\, in einem kleineren\, internen Rahmen\, an verschiedenen Orten der Zürcher Innenstadt stattfinden. \nAm 29. Mai 2025 findet findet in Zürich eine grosse Gedenkveranstaltung statt. Die Mennonitische Weltkonferenz lädt zu einem öffentlichen Feier- und Gedenktag ein unter dem Thema „Mut zur Liebe – Täuferbewegung@500“
URL:https://mennoniten-bern.ch/event/gedenkfeier-500-jahre-taeuferbewegung/
LOCATION:Zürich
CATEGORIES:Konferenz der Mennoniten der Schweiz
END:VEVENT
END:VCALENDAR