BEGIN:VCALENDAR
VERSION:2.0
PRODID:-//Evangelische Mennoniten-Gemeinde Bern, Alttäufer - ECPv6.15.19//NONSGML v1.0//EN
CALSCALE:GREGORIAN
METHOD:PUBLISH
X-ORIGINAL-URL:https://mennoniten-bern.ch
X-WR-CALDESC:Veranstaltungen für Evangelische Mennoniten-Gemeinde Bern, Alttäufer
REFRESH-INTERVAL;VALUE=DURATION:PT1H
X-Robots-Tag:noindex
X-PUBLISHED-TTL:PT1H
BEGIN:VTIMEZONE
TZID:Europe/Berlin
BEGIN:DAYLIGHT
TZOFFSETFROM:+0100
TZOFFSETTO:+0200
TZNAME:CEST
DTSTART:20210328T010000
END:DAYLIGHT
BEGIN:STANDARD
TZOFFSETFROM:+0200
TZOFFSETTO:+0100
TZNAME:CET
DTSTART:20211031T010000
END:STANDARD
BEGIN:DAYLIGHT
TZOFFSETFROM:+0100
TZOFFSETTO:+0200
TZNAME:CEST
DTSTART:20220327T010000
END:DAYLIGHT
BEGIN:STANDARD
TZOFFSETFROM:+0200
TZOFFSETTO:+0100
TZNAME:CET
DTSTART:20221030T010000
END:STANDARD
BEGIN:DAYLIGHT
TZOFFSETFROM:+0100
TZOFFSETTO:+0200
TZNAME:CEST
DTSTART:20230326T010000
END:DAYLIGHT
BEGIN:STANDARD
TZOFFSETFROM:+0200
TZOFFSETTO:+0100
TZNAME:CET
DTSTART:20231029T010000
END:STANDARD
END:VTIMEZONE
BEGIN:VEVENT
DTSTART;TZID=Europe/Berlin:20221030T100000
DTEND;TZID=Europe/Berlin:20221030T110000
DTSTAMP:20260420T034639
CREATED:20220913T155137Z
LAST-MODIFIED:20220915T143121Z
UID:10000222-1667124000-1667127600@mennoniten-bern.ch
SUMMARY:Gottesdienst
DESCRIPTION:
URL:https://mennoniten-bern.ch/event/gottesdienst-11/
LOCATION:Träffer\, Schosshaldenstrasse 43\, Bern\, BE\, 3006\, Schweiz
CATEGORIES:Gottesdienst
ORGANIZER;CN="Evangelische Mennoniten-Gemeinde%2C Altt%C3%A4ufer Bern":MAILTO:juerg.braeker@menno.ch
END:VEVENT
BEGIN:VEVENT
DTSTART;TZID=Europe/Berlin:20221025T143000
DTEND;TZID=Europe/Berlin:20221025T163000
DTSTAMP:20260420T034639
CREATED:20220913T155506Z
LAST-MODIFIED:20220913T155506Z
UID:10000224-1666708200-1666715400@mennoniten-bern.ch
SUMMARY:Nachmittag 60 plus
DESCRIPTION:
URL:https://mennoniten-bern.ch/event/nachmittag-60-plus/
LOCATION:Träffer\, Schosshaldenstrasse 43\, Bern\, BE\, 3006\, Schweiz
CATEGORIES:Senioren
ORGANIZER;CN="Evangelische Mennoniten-Gemeinde%2C Altt%C3%A4ufer Bern":MAILTO:juerg.braeker@menno.ch
END:VEVENT
BEGIN:VEVENT
DTSTART;VALUE=DATE:20221023
DTEND;VALUE=DATE:20221024
DTSTAMP:20260420T034639
CREATED:20220913T154926Z
LAST-MODIFIED:20220913T154926Z
UID:10000221-1666483200-1666569599@mennoniten-bern.ch
SUMMARY:kein Gottesdienst
DESCRIPTION:
URL:https://mennoniten-bern.ch/event/kein-gottesdienst-9/
LOCATION:Träffer\, Schosshaldenstrasse 43\, Bern\, BE\, 3006\, Schweiz
CATEGORIES:Gottesdienst
ORGANIZER;CN="Evangelische Mennoniten-Gemeinde%2C Altt%C3%A4ufer Bern":MAILTO:juerg.braeker@menno.ch
END:VEVENT
BEGIN:VEVENT
DTSTART;TZID=Europe/Berlin:20221016T170000
DTEND;TZID=Europe/Berlin:20221016T193000
DTSTAMP:20260420T034639
CREATED:20220913T154817Z
LAST-MODIFIED:20221013T164816Z
UID:10000220-1665939600-1665948600@mennoniten-bern.ch
SUMMARY:Besinnliche Abendfeier
DESCRIPTION:Besinnliche Abendfeier mit „Klang-Wort-Stille“ \nAnschliessend Suppenznacht. \nHerzliche Einladung! Wir freuen uns auf ein Wiedersehen nach der Herbstpause. \nBild: Hans Vivek / unsplash
URL:https://mennoniten-bern.ch/event/gottesdienst-mit-meditation/
LOCATION:Träffer\, Schosshaldenstrasse 43\, Bern\, BE\, 3006\, Schweiz
CATEGORIES:Gemeindeanlass,Gottesdienst
ATTACH;FMTTYPE=image/jpeg:https://mennoniten-bern.ch/wp-content/uploads/2022/09/hans-vivek-UiMkBvDQSAA-unsplash-scaled.jpeg
ORGANIZER;CN="Evangelische Mennoniten-Gemeinde%2C Altt%C3%A4ufer Bern":MAILTO:juerg.braeker@menno.ch
END:VEVENT
BEGIN:VEVENT
DTSTART;VALUE=DATE:20221009
DTEND;VALUE=DATE:20221010
DTSTAMP:20260420T034639
CREATED:20220913T154053Z
LAST-MODIFIED:20220913T154941Z
UID:10000219-1665273600-1665359999@mennoniten-bern.ch
SUMMARY:kein Gottesdienst
DESCRIPTION:In den Ferien entfällt der Gottesdienst.
URL:https://mennoniten-bern.ch/event/kein-gottesdienst-8/
LOCATION:Träffer\, Schosshaldenstrasse 43\, Bern\, BE\, 3006\, Schweiz
CATEGORIES:Gottesdienst
ORGANIZER;CN="Evangelische Mennoniten-Gemeinde%2C Altt%C3%A4ufer Bern":MAILTO:juerg.braeker@menno.ch
END:VEVENT
BEGIN:VEVENT
DTSTART;TZID=Europe/Berlin:20221002T100000
DTEND;TZID=Europe/Berlin:20221002T110000
DTSTAMP:20260420T034639
CREATED:20220913T153846Z
LAST-MODIFIED:20220913T153846Z
UID:10000218-1664704800-1664708400@mennoniten-bern.ch
SUMMARY:Gottesdienst
DESCRIPTION:Besuche sind besondere Zeiten und Gelegenheiten. Sie mögen unscheinbar beginnen\, und dann wird daraus viel mehr als zunächst geahnt.
URL:https://mennoniten-bern.ch/event/gottesdienst-10/
LOCATION:Träffer\, Schosshaldenstrasse 43\, Bern\, BE\, 3006\, Schweiz
CATEGORIES:Gottesdienst
ORGANIZER;CN="Evangelische Mennoniten-Gemeinde%2C Altt%C3%A4ufer Bern":MAILTO:juerg.braeker@menno.ch
END:VEVENT
BEGIN:VEVENT
DTSTART;TZID=Europe/Berlin:20220918T100000
DTEND;TZID=Europe/Berlin:20220918T150000
DTSTAMP:20260420T034639
CREATED:20220409T151916Z
LAST-MODIFIED:20220913T153103Z
UID:10000213-1663495200-1663513200@mennoniten-bern.ch
SUMMARY:Bettagsgottesdienst
DESCRIPTION:In unserer Gemeinde feiern den Dank- Buss- und Bettag auch als Erntedankfest. So laden wir anschliessend an den Gottesdienst zu einem gemeinsamen Mittagessen ein. Wer kann und mag\, bringt etwas mit\, Apéro-Gebäck oder einen Salat\, etwas Käse\, Dessert oder sonstige Häppchen. Wir stellen alles zu einem Buffet zusammen und teilen miteinander. Herzlich willkommen! \nBild: Spencer Davis / unsplash
URL:https://mennoniten-bern.ch/event/bettagsgottesdienst/
LOCATION:Träffer\, Schosshaldenstrasse 43\, Bern\, BE\, 3006\, Schweiz
CATEGORIES:Gemeindeanlass,Gottesdienst
ATTACH;FMTTYPE=image/jpeg:https://mennoniten-bern.ch/wp-content/uploads/2022/09/spencer-davis-vJsj-hgOEG0-unsplash-scaled.jpeg
ORGANIZER;CN="Evangelische Mennoniten-Gemeinde%2C Altt%C3%A4ufer Bern":MAILTO:juerg.braeker@menno.ch
END:VEVENT
BEGIN:VEVENT
DTSTART;TZID=Europe/Berlin:20220911T170000
DTEND;TZID=Europe/Berlin:20220911T170000
DTSTAMP:20260420T034639
CREATED:20220409T151805Z
LAST-MODIFIED:20220903T114855Z
UID:10000212-1662915600-1662915600@mennoniten-bern.ch
SUMMARY:Schöpfungsfeier
DESCRIPTION:Höchste Zeit für die Schöpfung – Das Leben lieben\n  \nGemeinsame Schöpfungsfeier verschiedener Kirchen in Bern und Umgebung. \nAnschliessend Apéro riche \nFlyer
URL:https://mennoniten-bern.ch/event/schoepfungsfeier/
LOCATION:Träffer\, Schosshaldenstrasse 43\, Bern\, BE\, 3006\, Schweiz
CATEGORIES:Gottesdienst
ATTACH;FMTTYPE=image/jpeg:https://mennoniten-bern.ch/wp-content/uploads/2022/08/Erde-scaled.jpg
ORGANIZER;CN="Evangelische Mennoniten-Gemeinde%2C Altt%C3%A4ufer Bern":MAILTO:juerg.braeker@menno.ch
END:VEVENT
BEGIN:VEVENT
DTSTART;TZID=Europe/Berlin:20220904T100000
DTEND;TZID=Europe/Berlin:20220904T100000
DTSTAMP:20260420T034639
CREATED:20220409T151701Z
LAST-MODIFIED:20220621T145407Z
UID:10000211-1662285600-1662285600@mennoniten-bern.ch
SUMMARY:Gottesdienst mit Kirchgemeinde Nydegg
DESCRIPTION:
URL:https://mennoniten-bern.ch/event/gottesdienst-mit-kirchgemeinde-nydegg/
LOCATION:Träffer\, Schosshaldenstrasse 43\, Bern\, BE\, 3006\, Schweiz
CATEGORIES:Gottesdienst
ORGANIZER;CN="Evangelische Mennoniten-Gemeinde%2C Altt%C3%A4ufer Bern":MAILTO:juerg.braeker@menno.ch
END:VEVENT
BEGIN:VEVENT
DTSTART;TZID=Europe/Berlin:20220830T143000
DTEND;TZID=Europe/Berlin:20220830T170000
DTSTAMP:20260420T034639
CREATED:20220715T142218Z
LAST-MODIFIED:20220823T143721Z
UID:10000216-1661869800-1661878800@mennoniten-bern.ch
SUMMARY:Treffen 60 plus
DESCRIPTION:Ein Nachmittag zum Vorlesen und Nachsinnen. \nMit Liliane Zürcher.
URL:https://mennoniten-bern.ch/event/treffen-60-plus/
LOCATION:Träffer\, Schosshaldenstrasse 43\, Bern\, BE\, 3006\, Schweiz
CATEGORIES:Senioren
ATTACH;FMTTYPE=image/jpeg:https://mennoniten-bern.ch/wp-content/uploads/2022/07/fang-wei-lin-H1IRUS1vEFA-unsplash-scaled.jpeg
ORGANIZER;CN="Evangelische Mennoniten-Gemeinde%2C Altt%C3%A4ufer Bern":MAILTO:juerg.braeker@menno.ch
END:VEVENT
BEGIN:VEVENT
DTSTART;TZID=Europe/Berlin:20220814T091500
DTEND;TZID=Europe/Berlin:20220814T120000
DTSTAMP:20260420T034639
CREATED:20220409T145837Z
LAST-MODIFIED:20220621T144518Z
UID:10000208-1660468500-1660478400@mennoniten-bern.ch
SUMMARY:Gottesdienst mit Taufen
DESCRIPTION:Herzliche Einladung zum Gottesdienst mit Taufen. \nDer Gottesdienst findet in zwei Teilen statt. \nWir besammeln uns um 9:15 am Parkplatz bei der Wohleibrücke bei Hinterkappelen und spazieren zum Taufplatz am Wohlensee\, wo wir die Taufen feiern. \nDer zweite Teil der Feier findet um 11 Uhr im Träffer statt\, wo wir mit den Neugetauften einen Gottesdienst feiern. \nTaufeinladung 2022
URL:https://mennoniten-bern.ch/event/gottesdienst-9/
LOCATION:Träffer\, Schosshaldenstrasse 43\, Bern\, BE\, 3006\, Schweiz
CATEGORIES:Gemeindeanlass,Gottesdienst
ATTACH;FMTTYPE=image/jpeg:https://mennoniten-bern.ch/wp-content/uploads/2022/04/Wasser-borna-bevenda-scaled.jpg
ORGANIZER;CN="Evangelische Mennoniten-Gemeinde%2C Altt%C3%A4ufer Bern":MAILTO:juerg.braeker@menno.ch
END:VEVENT
BEGIN:VEVENT
DTSTART;TZID=Europe/Berlin:20220703T100000
DTEND;TZID=Europe/Berlin:20220703T110000
DTSTAMP:20260420T034639
CREATED:20220409T145304Z
LAST-MODIFIED:20220601T134259Z
UID:10000203-1656842400-1656846000@mennoniten-bern.ch
SUMMARY:Gottesdienst
DESCRIPTION:
URL:https://mennoniten-bern.ch/event/gottesdienst-8/
LOCATION:Träffer\, Schosshaldenstrasse 43\, Bern\, BE\, 3006\, Schweiz
CATEGORIES:Gottesdienst
ORGANIZER;CN="Evangelische Mennoniten-Gemeinde%2C Altt%C3%A4ufer Bern":MAILTO:juerg.braeker@menno.ch
END:VEVENT
BEGIN:VEVENT
DTSTART;TZID=Europe/Berlin:20220619T100000
DTEND;TZID=Europe/Berlin:20220619T110000
DTSTAMP:20260420T034639
CREATED:20220409T144009Z
LAST-MODIFIED:20220613T092710Z
UID:10000201-1655632800-1655636400@mennoniten-bern.ch
SUMMARY:Gottesdienst mit Hansuli John Gerber
DESCRIPTION:Am Sonntag 19. Juni ist Hansuli John Gerber von der Gemeinde La Chaux-d’Abel bei uns zu Gast mit einer Predigt. Herzliche Einladung!
URL:https://mennoniten-bern.ch/event/gottesdienst-7/
LOCATION:Träffer\, Schosshaldenstrasse 43\, Bern\, BE\, 3006\, Schweiz
CATEGORIES:Gottesdienst
END:VEVENT
BEGIN:VEVENT
DTSTART;TZID=Europe/Berlin:20220612T100000
DTEND;TZID=Europe/Berlin:20220612T110000
DTSTAMP:20260420T034639
CREATED:20220409T143603Z
LAST-MODIFIED:20220611T125336Z
UID:10000200-1655028000-1655031600@mennoniten-bern.ch
SUMMARY:Gottesdienst mit Psalmenmeditation
DESCRIPTION:Herzliche Einladung zu einem Gottesdienst mit Meditation\, Stille und Musik!
URL:https://mennoniten-bern.ch/event/gottesdienst-6/
LOCATION:Träffer\, Schosshaldenstrasse 43\, Bern\, BE\, 3006\, Schweiz
CATEGORIES:Gottesdienst
ORGANIZER;CN="Evangelische Mennoniten-Gemeinde%2C Altt%C3%A4ufer Bern":MAILTO:juerg.braeker@menno.ch
END:VEVENT
BEGIN:VEVENT
DTSTART;TZID=Europe/Berlin:20220605T100000
DTEND;TZID=Europe/Berlin:20220605T110000
DTSTAMP:20260420T034639
CREATED:20220409T143520Z
LAST-MODIFIED:20220601T134259Z
UID:10000199-1654423200-1654426800@mennoniten-bern.ch
SUMMARY:Pfingstgottesdienst
DESCRIPTION:
URL:https://mennoniten-bern.ch/event/pfingstgottesdienst/
LOCATION:Träffer\, Schosshaldenstrasse 43\, Bern\, BE\, 3006\, Schweiz
CATEGORIES:Gottesdienst
ORGANIZER;CN="Evangelische Mennoniten-Gemeinde%2C Altt%C3%A4ufer Bern":MAILTO:juerg.braeker@menno.ch
END:VEVENT
BEGIN:VEVENT
DTSTART;TZID=Europe/Berlin:20220529T100000
DTEND;TZID=Europe/Berlin:20220529T120000
DTSTAMP:20260420T034639
CREATED:20220409T143158Z
LAST-MODIFIED:20220601T134259Z
UID:10000198-1653818400-1653825600@mennoniten-bern.ch
SUMMARY:Gottesdienst
DESCRIPTION:Gemeinsames Singen\, anschliessend Apéro
URL:https://mennoniten-bern.ch/event/gottesdienst-5/
LOCATION:Träffer\, Schosshaldenstrasse 43\, Bern\, BE\, 3006\, Schweiz
CATEGORIES:Gottesdienst
ORGANIZER;CN="Evangelische Mennoniten-Gemeinde%2C Altt%C3%A4ufer Bern":MAILTO:juerg.braeker@menno.ch
END:VEVENT
BEGIN:VEVENT
DTSTART;TZID=Europe/Berlin:20220515T100000
DTEND;TZID=Europe/Berlin:20220515T100000
DTSTAMP:20260420T034639
CREATED:20220409T141622Z
LAST-MODIFIED:20220601T134259Z
UID:10000195-1652608800-1652608800@mennoniten-bern.ch
SUMMARY:Gottesdienst
DESCRIPTION:
URL:https://mennoniten-bern.ch/event/gottesdienst-4/
LOCATION:Träffer\, Schosshaldenstrasse 43\, Bern\, BE\, 3006\, Schweiz
CATEGORIES:Gottesdienst
ORGANIZER;CN="Evangelische Mennoniten-Gemeinde%2C Altt%C3%A4ufer Bern":MAILTO:juerg.braeker@menno.ch
END:VEVENT
BEGIN:VEVENT
DTSTART;TZID=Europe/Berlin:20220508T100000
DTEND;TZID=Europe/Berlin:20220508T110000
DTSTAMP:20260420T034639
CREATED:20220409T141445Z
LAST-MODIFIED:20220410T125521Z
UID:10000194-1652004000-1652007600@mennoniten-bern.ch
SUMMARY:Gottesdienst
DESCRIPTION:
URL:https://mennoniten-bern.ch/event/gottesdienst-3/
LOCATION:Träffer\, Schosshaldenstrasse 43\, Bern\, BE\, 3006\, Schweiz
CATEGORIES:Gottesdienst
ORGANIZER;CN="Evangelische Mennoniten-Gemeinde%2C Altt%C3%A4ufer Bern":MAILTO:juerg.braeker@menno.ch
END:VEVENT
BEGIN:VEVENT
DTSTART;TZID=Europe/Berlin:20220501T100000
DTEND;TZID=Europe/Berlin:20220501T110000
DTSTAMP:20260420T034639
CREATED:20220409T141337Z
LAST-MODIFIED:20220426T162538Z
UID:10000193-1651399200-1651402800@mennoniten-bern.ch
SUMMARY:Gottesdienst
DESCRIPTION:Predigttext\n\n\n\n				Ich bin die Tür; so jemand durch mich eingeht\, der wird selig werden und wird ein und aus gehen und Weide finden. Ein Dieb kommt nur\, dass er\nstehle\, würge und umbringe. Ich bin gekommen\, dass sie das Leben und volle Genüge haben sollen. Ich bin der gute Hirte.			 \n\n											Johannesevangelium 10\, 9-11a\n																\n																																													Tweet\n													\n									\n\n\n\n											\n															© Beat Loosli
URL:https://mennoniten-bern.ch/event/gottesdienst-2/
LOCATION:Träffer\, Schosshaldenstrasse 43\, Bern\, BE\, 3006\, Schweiz
CATEGORIES:Gottesdienst
ATTACH;FMTTYPE=image/jpeg:https://mennoniten-bern.ch/wp-content/uploads/2022/04/20120924-london-desmond-tutu-e1650990248346.jpg
ORGANIZER;CN="Evangelische Mennoniten-Gemeinde%2C Altt%C3%A4ufer Bern":MAILTO:juerg.braeker@menno.ch
END:VEVENT
BEGIN:VEVENT
DTSTART;TZID=Europe/Berlin:20220417T100000
DTEND;TZID=Europe/Berlin:20220417T113000
DTSTAMP:20260420T034639
CREATED:20220409T134722Z
LAST-MODIFIED:20220411T120959Z
UID:10000191-1650189600-1650195000@mennoniten-bern.ch
SUMMARY:Ostergottesdienst
DESCRIPTION:Ostern 17. April\, 10 Uhr: «Er ist nicht hier!»\nMit Zittern und Entsetzen auf einen neuen Weg\nOstergottesdienst mit Abendmahl. \nMit Christine Gerber Rihs\, Jürg Bräker und Manuela Roth.
URL:https://mennoniten-bern.ch/event/ostergottesdienst/
LOCATION:Träffer\, Schosshaldenstrasse 43\, Bern\, BE\, 3006\, Schweiz
CATEGORIES:Gottesdienst
ORGANIZER;CN="Evangelische Mennoniten-Gemeinde%2C Altt%C3%A4ufer Bern":MAILTO:juerg.braeker@menno.ch
END:VEVENT
BEGIN:VEVENT
DTSTART;TZID=Europe/Berlin:20220415T100000
DTEND;TZID=Europe/Berlin:20220415T113000
DTSTAMP:20260420T034639
CREATED:20220409T132901Z
LAST-MODIFIED:20220411T121022Z
UID:10000190-1650016800-1650022200@mennoniten-bern.ch
SUMMARY:Gottesdienst Karfreitag
DESCRIPTION:Karfreitag 15. April\, 10 Uhr: Ich will hier bei dir stehen\nGottesdienst mit Mediationen zur Passionserzählung nach Lukas\, Lieder und Musik und Stille. \nMit Ursula Wenziker\, Jürg Bräker\, Manuela Roth und Anna Rihs. \n 
URL:https://mennoniten-bern.ch/event/gottesdienst-karfreitag/
LOCATION:Träffer\, Schosshaldenstrasse 43\, Bern\, BE\, 3006\, Schweiz
CATEGORIES:Gottesdienst
ORGANIZER;CN="Evangelische Mennoniten-Gemeinde%2C Altt%C3%A4ufer Bern":MAILTO:juerg.braeker@menno.ch
END:VEVENT
BEGIN:VEVENT
DTSTART;TZID=Europe/Berlin:20220410T100000
DTEND;TZID=Europe/Berlin:20220410T110000
DTSTAMP:20260420T034639
CREATED:20220409T132704Z
LAST-MODIFIED:20220410T125521Z
UID:10000189-1649584800-1649588400@mennoniten-bern.ch
SUMMARY:Gottesdienst Palmsonntag
DESCRIPTION:
URL:https://mennoniten-bern.ch/event/gottesdienst-palmsonntag/
LOCATION:Träffer\, Schosshaldenstrasse 43\, Bern\, BE\, 3006\, Schweiz
CATEGORIES:Gottesdienst
ORGANIZER;CN="Evangelische Mennoniten-Gemeinde%2C Altt%C3%A4ufer Bern":MAILTO:juerg.braeker@menno.ch
END:VEVENT
BEGIN:VEVENT
DTSTART;TZID=Europe/Berlin:20220403T100000
DTEND;TZID=Europe/Berlin:20220403T110000
DTSTAMP:20260420T034639
CREATED:20220409T132518Z
LAST-MODIFIED:20220410T125521Z
UID:10000188-1648980000-1648983600@mennoniten-bern.ch
SUMMARY:Gottesdienst
DESCRIPTION:
URL:https://mennoniten-bern.ch/event/gottesdienst/
LOCATION:Träffer\, Schosshaldenstrasse 43\, Bern\, BE\, 3006\, Schweiz
CATEGORIES:Gottesdienst
ORGANIZER;CN="Evangelische Mennoniten-Gemeinde%2C Altt%C3%A4ufer Bern":MAILTO:juerg.braeker@menno.ch
END:VEVENT
END:VCALENDAR