BEGIN:VCALENDAR
VERSION:2.0
PRODID:-//Evangelische Mennoniten-Gemeinde Bern, Alttäufer - ECPv6.15.19//NONSGML v1.0//EN
CALSCALE:GREGORIAN
METHOD:PUBLISH
X-WR-CALNAME:Evangelische Mennoniten-Gemeinde Bern, Alttäufer
X-ORIGINAL-URL:https://mennoniten-bern.ch
X-WR-CALDESC:Veranstaltungen für Evangelische Mennoniten-Gemeinde Bern, Alttäufer
REFRESH-INTERVAL;VALUE=DURATION:PT1H
X-Robots-Tag:noindex
X-PUBLISHED-TTL:PT1H
BEGIN:VTIMEZONE
TZID:Europe/Berlin
BEGIN:DAYLIGHT
TZOFFSETFROM:+0100
TZOFFSETTO:+0200
TZNAME:CEST
DTSTART:20210328T010000
END:DAYLIGHT
BEGIN:STANDARD
TZOFFSETFROM:+0200
TZOFFSETTO:+0100
TZNAME:CET
DTSTART:20211031T010000
END:STANDARD
BEGIN:DAYLIGHT
TZOFFSETFROM:+0100
TZOFFSETTO:+0200
TZNAME:CEST
DTSTART:20220327T010000
END:DAYLIGHT
BEGIN:STANDARD
TZOFFSETFROM:+0200
TZOFFSETTO:+0100
TZNAME:CET
DTSTART:20221030T010000
END:STANDARD
BEGIN:DAYLIGHT
TZOFFSETFROM:+0100
TZOFFSETTO:+0200
TZNAME:CEST
DTSTART:20230326T010000
END:DAYLIGHT
BEGIN:STANDARD
TZOFFSETFROM:+0200
TZOFFSETTO:+0100
TZNAME:CET
DTSTART:20231029T010000
END:STANDARD
BEGIN:DAYLIGHT
TZOFFSETFROM:+0100
TZOFFSETTO:+0200
TZNAME:CEST
DTSTART:20240331T010000
END:DAYLIGHT
BEGIN:STANDARD
TZOFFSETFROM:+0200
TZOFFSETTO:+0100
TZNAME:CET
DTSTART:20241027T010000
END:STANDARD
END:VTIMEZONE
BEGIN:VEVENT
DTSTART;TZID=Europe/Berlin:20230314T190000
DTEND;TZID=Europe/Berlin:20230314T203000
DTSTAMP:20260420T002126
CREATED:20230210T172053Z
LAST-MODIFIED:20230228T104929Z
UID:10000309-1678820400-1678825800@mennoniten-bern.ch
SUMMARY:Mitgliederversammlung Trägerverein Quartierzentrum Träffer
DESCRIPTION:Die jährliche Mitgliederversammlung informiert über die Tätigkeiten des Vereins. \nDie Versammlung bietet neben den formalen Geschäften des Vereins auch Gelegenheiten für Begegnungen mit all denen\, die dieses Haus mit Leben füllen. Herzliche Einladung an alle Mitglieder und die es noch werden wollen! Auch Gäste sind willkommen.
URL:https://mennoniten-bern.ch/event/mitgliederversammlung-traegerverein-quartierzentrum-traeffer/
LOCATION:Träffer\, Schosshaldenstrasse 43\, Bern\, BE\, 3006\, Schweiz
CATEGORIES:Träffer
ORGANIZER;CN="Tr%C3%A4gerverein Quartiertreff Schosshalde (Tr%C3%A4ffer)":MAILTO:info@traeffer.ch
END:VEVENT
BEGIN:VEVENT
DTSTART;VALUE=DATE:20230313
DTEND;VALUE=DATE:20230319
DTSTAMP:20260420T002126
CREATED:20230210T175319Z
LAST-MODIFIED:20230210T175340Z
UID:10000311-1678665600-1679183999@mennoniten-bern.ch
SUMMARY:Fastenwoche Bern-Ost
DESCRIPTION:Die Kirchen in Bern-Ost bieten unter der Leitung von Dorothea Loosli-Amstutz (Älteste Mennoniten-Gemeinde Bern) und Sabine Müller Jahn (Pfarrerin Kirchgemeinde Nydegg) eine begleitete Fastenwoche an. Sie steht unter dem Titel „Welche Welt wollen wir?“ und gehört zur Ökumenischen Kampagne der Hilfswerke HEKS und Fastenaktion. \n2023 Fasten\, Flyer
URL:https://mennoniten-bern.ch/event/fastenwoche-bern-ost/
LOCATION:Träffer\, Schosshaldenstrasse 43\, Bern\, BE\, 3006\, Schweiz
ORGANIZER;CN="Evangelische Mennoniten-Gemeinde%2C Altt%C3%A4ufer Bern":MAILTO:juerg.braeker@menno.ch
END:VEVENT
BEGIN:VEVENT
DTSTART;TZID=Europe/Berlin:20230305T100000
DTEND;TZID=Europe/Berlin:20230305T110000
DTSTAMP:20260420T002126
CREATED:20221202T172041Z
LAST-MODIFIED:20221202T172041Z
UID:10000250-1678010400-1678014000@mennoniten-bern.ch
SUMMARY:Gottesdienst
DESCRIPTION:
URL:https://mennoniten-bern.ch/event/gottesdienst-17/
LOCATION:Träffer\, Schosshaldenstrasse 43\, Bern\, BE\, 3006\, Schweiz
CATEGORIES:Gottesdienst
ORGANIZER;CN="Evangelische Mennoniten-Gemeinde%2C Altt%C3%A4ufer Bern":MAILTO:juerg.braeker@menno.ch
END:VEVENT
BEGIN:VEVENT
DTSTART;TZID=Europe/Berlin:20230228T143000
DTEND;TZID=Europe/Berlin:20230228T163000
DTSTAMP:20260420T002126
CREATED:20221214T170659Z
LAST-MODIFIED:20230211T133703Z
UID:10000298-1677594600-1677601800@mennoniten-bern.ch
SUMMARY:Nachmittag 60 plus
DESCRIPTION:
URL:https://mennoniten-bern.ch/event/nachmittag-60-plus-5/
LOCATION:Träffer\, Schosshaldenstrasse 43\, Bern\, BE\, 3006\, Schweiz
CATEGORIES:Diakonie
ORGANIZER;CN="Evangelische Mennoniten-Gemeinde%2C Altt%C3%A4ufer Bern":MAILTO:juerg.braeker@menno.ch
END:VEVENT
BEGIN:VEVENT
DTSTART;VALUE=DATE:20230226
DTEND;VALUE=DATE:20230227
DTSTAMP:20260420T002126
CREATED:20221202T172139Z
LAST-MODIFIED:20221202T172139Z
UID:10000251-1677369600-1677455999@mennoniten-bern.ch
SUMMARY:kein Gottesdienst
DESCRIPTION:
URL:https://mennoniten-bern.ch/event/kein-gottesdienst-14/
LOCATION:Träffer\, Schosshaldenstrasse 43\, Bern\, BE\, 3006\, Schweiz
ORGANIZER;CN="Evangelische Mennoniten-Gemeinde%2C Altt%C3%A4ufer Bern":MAILTO:juerg.braeker@menno.ch
END:VEVENT
BEGIN:VEVENT
DTSTART;TZID=Europe/Berlin:20230219T100000
DTEND;TZID=Europe/Berlin:20230219T110000
DTSTAMP:20260420T002126
CREATED:20221202T171754Z
LAST-MODIFIED:20221202T171754Z
UID:10000249-1676800800-1676804400@mennoniten-bern.ch
SUMMARY:Gottesdienst
DESCRIPTION:
URL:https://mennoniten-bern.ch/event/gottesdienst-16/
LOCATION:Träffer\, Schosshaldenstrasse 43\, Bern\, BE\, 3006\, Schweiz
CATEGORIES:Gottesdienst
ORGANIZER;CN="Evangelische Mennoniten-Gemeinde%2C Altt%C3%A4ufer Bern":MAILTO:juerg.braeker@menno.ch
END:VEVENT
BEGIN:VEVENT
DTSTART;TZID=Europe/Berlin:20230212T100000
DTEND;TZID=Europe/Berlin:20230212T110000
DTSTAMP:20260420T002126
CREATED:20221202T171413Z
LAST-MODIFIED:20221202T171413Z
UID:10000248-1676196000-1676199600@mennoniten-bern.ch
SUMMARY:Gottesdienst
DESCRIPTION:
URL:https://mennoniten-bern.ch/event/gottesdienst-15/
LOCATION:Träffer\, Schosshaldenstrasse 43\, Bern\, BE\, 3006\, Schweiz
CATEGORIES:Gottesdienst
ORGANIZER;CN="Evangelische Mennoniten-Gemeinde%2C Altt%C3%A4ufer Bern":MAILTO:juerg.braeker@menno.ch
END:VEVENT
BEGIN:VEVENT
DTSTART;TZID=Europe/Berlin:20230205T100000
DTEND;TZID=Europe/Berlin:20230205T110000
DTSTAMP:20260420T002126
CREATED:20221202T170604Z
LAST-MODIFIED:20221202T171651Z
UID:10000246-1675591200-1675594800@mennoniten-bern.ch
SUMMARY:Gottesdienst
DESCRIPTION:
URL:https://mennoniten-bern.ch/event/gottesdienst-14/
LOCATION:Träffer\, Schosshaldenstrasse 43\, Bern\, BE\, 3006\, Schweiz
CATEGORIES:Gottesdienst
ORGANIZER;CN="Evangelische Mennoniten-Gemeinde%2C Altt%C3%A4ufer Bern":MAILTO:juerg.braeker@menno.ch
END:VEVENT
BEGIN:VEVENT
DTSTART;TZID=Europe/Berlin:20230131T143000
DTEND;TZID=Europe/Berlin:20230131T163000
DTSTAMP:20260420T002126
CREATED:20221214T170525Z
LAST-MODIFIED:20221214T170525Z
UID:10000297-1675175400-1675182600@mennoniten-bern.ch
SUMMARY:Nachmittag 60 plus
DESCRIPTION:
URL:https://mennoniten-bern.ch/event/nachmittag-60-plus-4/
LOCATION:Träffer\, Schosshaldenstrasse 43\, Bern\, BE\, 3006\, Schweiz
CATEGORIES:Diakonie
ORGANIZER;CN="Evangelische Mennoniten-Gemeinde%2C Altt%C3%A4ufer Bern":MAILTO:juerg.braeker@menno.ch
END:VEVENT
BEGIN:VEVENT
DTSTART;VALUE=DATE:20230129
DTEND;VALUE=DATE:20230130
DTSTAMP:20260420T002126
CREATED:20221202T170431Z
LAST-MODIFIED:20221202T170431Z
UID:10000245-1674950400-1675036799@mennoniten-bern.ch
SUMMARY:Kein Gottesdienst
DESCRIPTION:
URL:https://mennoniten-bern.ch/event/kein-gottesdienst-13/
LOCATION:Träffer\, Schosshaldenstrasse 43\, Bern\, BE\, 3006\, Schweiz
ORGANIZER;CN="Evangelische Mennoniten-Gemeinde%2C Altt%C3%A4ufer Bern":MAILTO:juerg.braeker@menno.ch
END:VEVENT
BEGIN:VEVENT
DTSTART;TZID=Europe/Berlin:20230115T100000
DTEND;TZID=Europe/Berlin:20230115T110000
DTSTAMP:20260420T002126
CREATED:20221202T165757Z
LAST-MODIFIED:20221202T165757Z
UID:10000243-1673776800-1673780400@mennoniten-bern.ch
SUMMARY:Gottesdienst
DESCRIPTION:
URL:https://mennoniten-bern.ch/event/gottesdienst-13/
LOCATION:Träffer\, Schosshaldenstrasse 43\, Bern\, BE\, 3006\, Schweiz
CATEGORIES:Gottesdienst
ORGANIZER;CN="Evangelische Mennoniten-Gemeinde%2C Altt%C3%A4ufer Bern":MAILTO:juerg.braeker@menno.ch
END:VEVENT
BEGIN:VEVENT
DTSTART;TZID=Europe/Berlin:20230108T080000
DTEND;TZID=Europe/Berlin:20230108T113000
DTSTAMP:20260420T002126
CREATED:20221202T165555Z
LAST-MODIFIED:20230104T130224Z
UID:10000242-1673164800-1673177400@mennoniten-bern.ch
SUMMARY:Tauffeier und Singgottesdienst
DESCRIPTION:Taufe in der Aare und anschliessender Gottesdienst im Träffer. \nTreffpunkt zur Tauffeier: 8 Uhr\, Parkplatz beim Aarebad Muri b. Bern (Unterer-Wehrliweg 5 \, 3074 Muri b. Bern \nSinggottesdienst: 10 Uhr\, im Träffer (Schosshaldenstrasse 43\, 3006 Bern) \nTaufeinladung 2023
URL:https://mennoniten-bern.ch/event/tauffeier-und-singgottesdienst/
LOCATION:Träffer\, Schosshaldenstrasse 43\, Bern\, BE\, 3006\, Schweiz
CATEGORIES:Gottesdienst
ATTACH;FMTTYPE=image/jpeg:https://mennoniten-bern.ch/wp-content/uploads/2022/04/Wasser-borna-bevenda-scaled.jpg
ORGANIZER;CN="Evangelische Mennoniten-Gemeinde%2C Altt%C3%A4ufer Bern":MAILTO:juerg.braeker@menno.ch
END:VEVENT
BEGIN:VEVENT
DTSTART;TZID=Europe/Berlin:20230101T170000
DTEND;TZID=Europe/Berlin:20230101T183000
DTSTAMP:20260420T002126
CREATED:20220913T162859Z
LAST-MODIFIED:20220913T165316Z
UID:10000233-1672592400-1672597800@mennoniten-bern.ch
SUMMARY:Neujahrsfeier
DESCRIPTION:Wir beginnen das neue Jahr mit einer besinnlichen Feier. \nTexte\, Gebete und Lieder. \nAnschliessend Apéro. \nDie Feier findet im Gemeinderaum der Mennoniten-Gemeinde Bern statt.
URL:https://mennoniten-bern.ch/event/neujahrsfeier/
LOCATION:Träffer\, Schosshaldenstrasse 43\, Bern\, BE\, 3006\, Schweiz
CATEGORIES:Gemeindeanlass,Gottesdienst
ORGANIZER;CN="Evangelische Mennoniten-Gemeinde%2C Altt%C3%A4ufer Bern":MAILTO:juerg.braeker@menno.ch
END:VEVENT
BEGIN:VEVENT
DTSTART;TZID=Europe/Berlin:20221225T100000
DTEND;TZID=Europe/Berlin:20221225T110000
DTSTAMP:20260420T002126
CREATED:20220913T162449Z
LAST-MODIFIED:20221102T174425Z
UID:10000232-1671962400-1671966000@mennoniten-bern.ch
SUMMARY:Weihnachtsgottesdienst
DESCRIPTION:
URL:https://mennoniten-bern.ch/event/weihnachtsgottesdienst/
LOCATION:Träffer\, Schosshaldenstrasse 43\, Bern\, BE\, 3006\, Schweiz
CATEGORIES:Gottesdienst
ORGANIZER;CN="Evangelische Mennoniten-Gemeinde%2C Altt%C3%A4ufer Bern":MAILTO:juerg.braeker@menno.ch
END:VEVENT
BEGIN:VEVENT
DTSTART;TZID=Europe/Berlin:20221220T143000
DTEND;TZID=Europe/Berlin:20221220T163000
DTSTAMP:20260420T002126
CREATED:20221014T120557Z
LAST-MODIFIED:20221216T113421Z
UID:10000239-1671546600-1671553800@mennoniten-bern.ch
SUMMARY:Weichnachtsfeier 60 plus
DESCRIPTION:Herzliche Einladung zur Weihnachtsfeier! \nEinladung 60 Plus 20. Dezember 2022[28]
URL:https://mennoniten-bern.ch/event/nachmittag-60-plus-3/
LOCATION:Träffer\, Schosshaldenstrasse 43\, Bern\, BE\, 3006\, Schweiz
CATEGORIES:Senioren
ORGANIZER;CN="Evangelische Mennoniten-Gemeinde%2C Altt%C3%A4ufer Bern":MAILTO:juerg.braeker@menno.ch
END:VEVENT
BEGIN:VEVENT
DTSTART;TZID=Europe/Berlin:20221218T100000
DTEND;TZID=Europe/Berlin:20221218T110000
DTSTAMP:20260420T002126
CREATED:20220913T162329Z
LAST-MODIFIED:20220913T162329Z
UID:10000231-1671357600-1671361200@mennoniten-bern.ch
SUMMARY:Singgottesdienst
DESCRIPTION:Gottesdienst zum 4. Advent\nEin Gottesdienst mit Liedern und Texten. \n  \nGestaltung: Ursula Wenziker und Christa Gerber.
URL:https://mennoniten-bern.ch/event/singgottesdienst/
LOCATION:Träffer\, Schosshaldenstrasse 43\, Bern\, BE\, 3006\, Schweiz
CATEGORIES:Gottesdienst
ORGANIZER;CN="Evangelische Mennoniten-Gemeinde%2C Altt%C3%A4ufer Bern":MAILTO:juerg.braeker@menno.ch
END:VEVENT
BEGIN:VEVENT
DTSTART;TZID=Europe/Berlin:20221214T100000
DTEND;TZID=Europe/Berlin:20221214T110000
DTSTAMP:20260420T002126
CREATED:20221214T161810Z
LAST-MODIFIED:20221214T161810Z
UID:10000273-1671012000-1671015600@mennoniten-bern.ch
SUMMARY:Gottesdienst
DESCRIPTION:
URL:https://mennoniten-bern.ch/event/gottesdienst-25/
LOCATION:Träffer\, Schosshaldenstrasse 43\, Bern\, BE\, 3006\, Schweiz
CATEGORIES:Gottesdienst
ORGANIZER;CN="Evangelische Mennoniten-Gemeinde%2C Altt%C3%A4ufer Bern":MAILTO:juerg.braeker@menno.ch
END:VEVENT
BEGIN:VEVENT
DTSTART;VALUE=DATE:20221211
DTEND;VALUE=DATE:20221212
DTSTAMP:20260420T002126
CREATED:20220913T161906Z
LAST-MODIFIED:20220913T161906Z
UID:10000230-1670716800-1670803199@mennoniten-bern.ch
SUMMARY:kein Gottesdienst
DESCRIPTION:
URL:https://mennoniten-bern.ch/event/kein-gottesdienst-12/
LOCATION:Träffer\, Schosshaldenstrasse 43\, Bern\, BE\, 3006\, Schweiz
CATEGORIES:Gottesdienst
ORGANIZER;CN="Evangelische Mennoniten-Gemeinde%2C Altt%C3%A4ufer Bern":MAILTO:juerg.braeker@menno.ch
END:VEVENT
BEGIN:VEVENT
DTSTART;TZID=Europe/Berlin:20221209T180000
DTEND;TZID=Europe/Berlin:20221209T203000
DTSTAMP:20260420T002126
CREATED:20221102T174223Z
LAST-MODIFIED:20221102T174223Z
UID:10000240-1670608800-1670617800@mennoniten-bern.ch
SUMMARY:Adventsapéro mit Singen im Träffer
DESCRIPTION:Ein feines Suppenznacht erwartet die Besucher und Besucherinnen ab 18 Uhr. Ab 19:30 singen wir gemeinsam Advents- und Weihnachtslieder. \nHerzliche Einladung.
URL:https://mennoniten-bern.ch/event/adventsapero-mit-singen-im-traeffer/
LOCATION:Träffer\, Schosshaldenstrasse 43\, Bern\, BE\, 3006\, Schweiz
CATEGORIES:Gemeindeanlass
ATTACH;FMTTYPE=image/jpeg:https://mennoniten-bern.ch/wp-content/uploads/2022/11/jessica-delp-dDq0G17Jxko-unsplash-1-scaled.jpg
ORGANIZER;CN="Tr%C3%A4gerverein Quartiertreff Schosshalde (Tr%C3%A4ffer)":MAILTO:info@traeffer.ch
END:VEVENT
BEGIN:VEVENT
DTSTART;TZID=Europe/Berlin:20221204T100000
DTEND;TZID=Europe/Berlin:20221204T110000
DTSTAMP:20260420T002126
CREATED:20220913T161751Z
LAST-MODIFIED:20221115T160159Z
UID:10000229-1670148000-1670151600@mennoniten-bern.ch
SUMMARY:Gottesdienst zum 2. Advent
DESCRIPTION:Gastprediger: Michel Ummel von der Mennonitengemeinde Courgenay / Sonnenberg. \nDie Predigt wird auf Französisch gehalten.
URL:https://mennoniten-bern.ch/event/gottesdienst-zum-2-advent/
LOCATION:Träffer\, Schosshaldenstrasse 43\, Bern\, BE\, 3006\, Schweiz
CATEGORIES:Gottesdienst
ORGANIZER;CN="Evangelische Mennoniten-Gemeinde%2C Altt%C3%A4ufer Bern":MAILTO:juerg.braeker@menno.ch
END:VEVENT
BEGIN:VEVENT
DTSTART;TZID=Europe/Berlin:20221129T143000
DTEND;TZID=Europe/Berlin:20221129T163000
DTSTAMP:20260420T002126
CREATED:20221014T120359Z
LAST-MODIFIED:20221014T120359Z
UID:10000238-1669732200-1669739400@mennoniten-bern.ch
SUMMARY:Nachmittag 60 plus
DESCRIPTION:
URL:https://mennoniten-bern.ch/event/nachmittag-60-plus-2/
LOCATION:Träffer\, Schosshaldenstrasse 43\, Bern\, BE\, 3006\, Schweiz
CATEGORIES:Senioren
ORGANIZER;CN="Evangelische Mennoniten-Gemeinde%2C Altt%C3%A4ufer Bern":MAILTO:juerg.braeker@menno.ch
END:VEVENT
BEGIN:VEVENT
DTSTART;TZID=Europe/Berlin:20221120T100000
DTEND;TZID=Europe/Berlin:20221120T110000
DTSTAMP:20260420T002126
CREATED:20220913T161343Z
LAST-MODIFIED:20220913T161946Z
UID:10000227-1668938400-1668942000@mennoniten-bern.ch
SUMMARY:Gottesdienst mit Abendmahl
DESCRIPTION:
URL:https://mennoniten-bern.ch/event/gottesdienst-mit-abendmahl/
LOCATION:Träffer\, Schosshaldenstrasse 43\, Bern\, BE\, 3006\, Schweiz
CATEGORIES:Gottesdienst
ORGANIZER;CN="Evangelische Mennoniten-Gemeinde%2C Altt%C3%A4ufer Bern":MAILTO:juerg.braeker@menno.ch
END:VEVENT
BEGIN:VEVENT
DTSTART;VALUE=DATE:20221113
DTEND;VALUE=DATE:20221114
DTSTAMP:20260420T002126
CREATED:20220913T161159Z
LAST-MODIFIED:20220913T161159Z
UID:10000226-1668297600-1668383999@mennoniten-bern.ch
SUMMARY:kein Gottesdienst
DESCRIPTION:
URL:https://mennoniten-bern.ch/event/kein-gottesdienst-10/
LOCATION:Träffer\, Schosshaldenstrasse 43\, Bern\, BE\, 3006\, Schweiz
CATEGORIES:Gottesdienst
ORGANIZER;CN="Evangelische Mennoniten-Gemeinde%2C Altt%C3%A4ufer Bern":MAILTO:juerg.braeker@menno.ch
END:VEVENT
BEGIN:VEVENT
DTSTART;TZID=Europe/Berlin:20221106T100000
DTEND;TZID=Europe/Berlin:20221106T110000
DTSTAMP:20260420T002126
CREATED:20220913T155300Z
LAST-MODIFIED:20220915T143041Z
UID:10000223-1667728800-1667732400@mennoniten-bern.ch
SUMMARY:Gottesdienst
DESCRIPTION:
URL:https://mennoniten-bern.ch/event/gottesdienst-12/
LOCATION:Träffer\, Schosshaldenstrasse 43\, Bern\, BE\, 3006\, Schweiz
CATEGORIES:Gottesdienst
ORGANIZER;CN="Evangelische Mennoniten-Gemeinde%2C Altt%C3%A4ufer Bern":MAILTO:juerg.braeker@menno.ch
END:VEVENT
BEGIN:VEVENT
DTSTART;TZID=Europe/Berlin:20221030T100000
DTEND;TZID=Europe/Berlin:20221030T110000
DTSTAMP:20260420T002126
CREATED:20220913T155137Z
LAST-MODIFIED:20220915T143121Z
UID:10000222-1667124000-1667127600@mennoniten-bern.ch
SUMMARY:Gottesdienst
DESCRIPTION:
URL:https://mennoniten-bern.ch/event/gottesdienst-11/
LOCATION:Träffer\, Schosshaldenstrasse 43\, Bern\, BE\, 3006\, Schweiz
CATEGORIES:Gottesdienst
ORGANIZER;CN="Evangelische Mennoniten-Gemeinde%2C Altt%C3%A4ufer Bern":MAILTO:juerg.braeker@menno.ch
END:VEVENT
BEGIN:VEVENT
DTSTART;TZID=Europe/Berlin:20221025T143000
DTEND;TZID=Europe/Berlin:20221025T163000
DTSTAMP:20260420T002126
CREATED:20220913T155506Z
LAST-MODIFIED:20220913T155506Z
UID:10000224-1666708200-1666715400@mennoniten-bern.ch
SUMMARY:Nachmittag 60 plus
DESCRIPTION:
URL:https://mennoniten-bern.ch/event/nachmittag-60-plus/
LOCATION:Träffer\, Schosshaldenstrasse 43\, Bern\, BE\, 3006\, Schweiz
CATEGORIES:Senioren
ORGANIZER;CN="Evangelische Mennoniten-Gemeinde%2C Altt%C3%A4ufer Bern":MAILTO:juerg.braeker@menno.ch
END:VEVENT
BEGIN:VEVENT
DTSTART;VALUE=DATE:20221023
DTEND;VALUE=DATE:20221024
DTSTAMP:20260420T002126
CREATED:20220913T154926Z
LAST-MODIFIED:20220913T154926Z
UID:10000221-1666483200-1666569599@mennoniten-bern.ch
SUMMARY:kein Gottesdienst
DESCRIPTION:
URL:https://mennoniten-bern.ch/event/kein-gottesdienst-9/
LOCATION:Träffer\, Schosshaldenstrasse 43\, Bern\, BE\, 3006\, Schweiz
CATEGORIES:Gottesdienst
ORGANIZER;CN="Evangelische Mennoniten-Gemeinde%2C Altt%C3%A4ufer Bern":MAILTO:juerg.braeker@menno.ch
END:VEVENT
BEGIN:VEVENT
DTSTART;TZID=Europe/Berlin:20221016T170000
DTEND;TZID=Europe/Berlin:20221016T193000
DTSTAMP:20260420T002126
CREATED:20220913T154817Z
LAST-MODIFIED:20221013T164816Z
UID:10000220-1665939600-1665948600@mennoniten-bern.ch
SUMMARY:Besinnliche Abendfeier
DESCRIPTION:Besinnliche Abendfeier mit „Klang-Wort-Stille“ \nAnschliessend Suppenznacht. \nHerzliche Einladung! Wir freuen uns auf ein Wiedersehen nach der Herbstpause. \nBild: Hans Vivek / unsplash
URL:https://mennoniten-bern.ch/event/gottesdienst-mit-meditation/
LOCATION:Träffer\, Schosshaldenstrasse 43\, Bern\, BE\, 3006\, Schweiz
CATEGORIES:Gemeindeanlass,Gottesdienst
ATTACH;FMTTYPE=image/jpeg:https://mennoniten-bern.ch/wp-content/uploads/2022/09/hans-vivek-UiMkBvDQSAA-unsplash-scaled.jpeg
ORGANIZER;CN="Evangelische Mennoniten-Gemeinde%2C Altt%C3%A4ufer Bern":MAILTO:juerg.braeker@menno.ch
END:VEVENT
BEGIN:VEVENT
DTSTART;VALUE=DATE:20221009
DTEND;VALUE=DATE:20221010
DTSTAMP:20260420T002126
CREATED:20220913T154053Z
LAST-MODIFIED:20220913T154941Z
UID:10000219-1665273600-1665359999@mennoniten-bern.ch
SUMMARY:kein Gottesdienst
DESCRIPTION:In den Ferien entfällt der Gottesdienst.
URL:https://mennoniten-bern.ch/event/kein-gottesdienst-8/
LOCATION:Träffer\, Schosshaldenstrasse 43\, Bern\, BE\, 3006\, Schweiz
CATEGORIES:Gottesdienst
ORGANIZER;CN="Evangelische Mennoniten-Gemeinde%2C Altt%C3%A4ufer Bern":MAILTO:juerg.braeker@menno.ch
END:VEVENT
BEGIN:VEVENT
DTSTART;TZID=Europe/Berlin:20221002T100000
DTEND;TZID=Europe/Berlin:20221002T110000
DTSTAMP:20260420T002126
CREATED:20220913T153846Z
LAST-MODIFIED:20220913T153846Z
UID:10000218-1664704800-1664708400@mennoniten-bern.ch
SUMMARY:Gottesdienst
DESCRIPTION:Besuche sind besondere Zeiten und Gelegenheiten. Sie mögen unscheinbar beginnen\, und dann wird daraus viel mehr als zunächst geahnt.
URL:https://mennoniten-bern.ch/event/gottesdienst-10/
LOCATION:Träffer\, Schosshaldenstrasse 43\, Bern\, BE\, 3006\, Schweiz
CATEGORIES:Gottesdienst
ORGANIZER;CN="Evangelische Mennoniten-Gemeinde%2C Altt%C3%A4ufer Bern":MAILTO:juerg.braeker@menno.ch
END:VEVENT
END:VCALENDAR