BEGIN:VCALENDAR
VERSION:2.0
PRODID:-//Evangelische Mennoniten-Gemeinde Bern, Alttäufer - ECPv6.15.19//NONSGML v1.0//EN
CALSCALE:GREGORIAN
METHOD:PUBLISH
X-WR-CALNAME:Evangelische Mennoniten-Gemeinde Bern, Alttäufer
X-ORIGINAL-URL:https://mennoniten-bern.ch
X-WR-CALDESC:Veranstaltungen für Evangelische Mennoniten-Gemeinde Bern, Alttäufer
REFRESH-INTERVAL;VALUE=DURATION:PT1H
X-Robots-Tag:noindex
X-PUBLISHED-TTL:PT1H
BEGIN:VTIMEZONE
TZID:Europe/Berlin
BEGIN:DAYLIGHT
TZOFFSETFROM:+0100
TZOFFSETTO:+0200
TZNAME:CEST
DTSTART:20220327T010000
END:DAYLIGHT
BEGIN:STANDARD
TZOFFSETFROM:+0200
TZOFFSETTO:+0100
TZNAME:CET
DTSTART:20221030T010000
END:STANDARD
BEGIN:DAYLIGHT
TZOFFSETFROM:+0100
TZOFFSETTO:+0200
TZNAME:CEST
DTSTART:20230326T010000
END:DAYLIGHT
BEGIN:STANDARD
TZOFFSETFROM:+0200
TZOFFSETTO:+0100
TZNAME:CET
DTSTART:20231029T010000
END:STANDARD
BEGIN:DAYLIGHT
TZOFFSETFROM:+0100
TZOFFSETTO:+0200
TZNAME:CEST
DTSTART:20240331T010000
END:DAYLIGHT
BEGIN:STANDARD
TZOFFSETFROM:+0200
TZOFFSETTO:+0100
TZNAME:CET
DTSTART:20241027T010000
END:STANDARD
END:VTIMEZONE
BEGIN:VEVENT
DTSTART;VALUE=DATE:20230625
DTEND;VALUE=DATE:20230626
DTSTAMP:20260419T210522
CREATED:20221214T161047Z
LAST-MODIFIED:20221214T161056Z
UID:10000267-1687651200-1687737599@mennoniten-bern.ch
SUMMARY:kein Gottesdienst
DESCRIPTION:Predigtbesuche KMS
URL:https://mennoniten-bern.ch/event/kein-gottesdienst-18/
LOCATION:Träffer\, Schosshaldenstrasse 43\, Bern\, BE\, 3006\, Schweiz
ORGANIZER;CN="Evangelische Mennoniten-Gemeinde%2C Altt%C3%A4ufer Bern":MAILTO:juerg.braeker@menno.ch
END:VEVENT
BEGIN:VEVENT
DTSTART;TZID=Europe/Berlin:20230618T170000
DTEND;TZID=Europe/Berlin:20230618T200000
DTSTAMP:20260419T210522
CREATED:20221214T160941Z
LAST-MODIFIED:20230611T144709Z
UID:10000266-1687107600-1687118400@mennoniten-bern.ch
SUMMARY:Abendfeier
DESCRIPTION:Klang – Wort – Stille mit anschliessendem Sommerznacht und gemütlichem Austausch. Herzliche Einladung an alle! \n 
URL:https://mennoniten-bern.ch/event/abendfeier/
LOCATION:Träffer\, Schosshaldenstrasse 43\, Bern\, BE\, 3006\, Schweiz
CATEGORIES:Gottesdienst
ATTACH;FMTTYPE=image/jpeg:https://mennoniten-bern.ch/wp-content/uploads/2023/06/Klang-e1686494950877.jpg
ORGANIZER;CN="Evangelische Mennoniten-Gemeinde%2C Altt%C3%A4ufer Bern":MAILTO:juerg.braeker@menno.ch
END:VEVENT
BEGIN:VEVENT
DTSTART;TZID=Europe/Berlin:20230611T100000
DTEND;TZID=Europe/Berlin:20230611T110000
DTSTAMP:20260419T210522
CREATED:20221214T160817Z
LAST-MODIFIED:20221214T160817Z
UID:10000265-1686477600-1686481200@mennoniten-bern.ch
SUMMARY:Gottesdienst
DESCRIPTION:
URL:https://mennoniten-bern.ch/event/gottesdienst-22/
LOCATION:Träffer\, Schosshaldenstrasse 43\, Bern\, BE\, 3006\, Schweiz
CATEGORIES:Gottesdienst
ORGANIZER;CN="Evangelische Mennoniten-Gemeinde%2C Altt%C3%A4ufer Bern":MAILTO:juerg.braeker@menno.ch
END:VEVENT
BEGIN:VEVENT
DTSTART;TZID=Europe/Berlin:20230604T100000
DTEND;TZID=Europe/Berlin:20230604T110000
DTSTAMP:20260419T210522
CREATED:20221214T160703Z
LAST-MODIFIED:20230527T092352Z
UID:10000264-1685872800-1685876400@mennoniten-bern.ch
SUMMARY:Gottesdienst
DESCRIPTION:Gottesdienst mit Gastpredigt von David Kuratle\, Pfarrer und Einzel-\, Paar- und Familientherapeut
URL:https://mennoniten-bern.ch/event/gottesdienst-21/
LOCATION:Träffer\, Schosshaldenstrasse 43\, Bern\, BE\, 3006\, Schweiz
CATEGORIES:Gottesdienst
ORGANIZER;CN="Evangelische Mennoniten-Gemeinde%2C Altt%C3%A4ufer Bern":MAILTO:juerg.braeker@menno.ch
END:VEVENT
BEGIN:VEVENT
DTSTART;TZID=Europe/Berlin:20230530T143000
DTEND;TZID=Europe/Berlin:20230530T163000
DTSTAMP:20260419T210522
CREATED:20221214T171233Z
LAST-MODIFIED:20221214T171233Z
UID:10000301-1685457000-1685464200@mennoniten-bern.ch
SUMMARY:Nachmittag 60 plus
DESCRIPTION:
URL:https://mennoniten-bern.ch/event/nachmittag-60-plus-8/
LOCATION:Träffer\, Schosshaldenstrasse 43\, Bern\, BE\, 3006\, Schweiz
CATEGORIES:Diakonie
ORGANIZER;CN="Evangelische Mennoniten-Gemeinde%2C Altt%C3%A4ufer Bern":MAILTO:juerg.braeker@menno.ch
END:VEVENT
BEGIN:VEVENT
DTSTART;TZID=Europe/Berlin:20230528T100000
DTEND;TZID=Europe/Berlin:20230528T110000
DTSTAMP:20260419T210522
CREATED:20221214T160125Z
LAST-MODIFIED:20230406T145453Z
UID:10000263-1685268000-1685271600@mennoniten-bern.ch
SUMMARY:Pfingstgottesdienst
DESCRIPTION:
URL:https://mennoniten-bern.ch/event/pfingstgottesdienst-2/
LOCATION:Träffer\, Schosshaldenstrasse 43\, Bern\, BE\, 3006\, Schweiz
CATEGORIES:Gottesdienst
ORGANIZER;CN="Evangelische Mennoniten-Gemeinde%2C Altt%C3%A4ufer Bern":MAILTO:juerg.braeker@menno.ch
END:VEVENT
BEGIN:VEVENT
DTSTART;TZID=Europe/Berlin:20230524T190000
DTEND;TZID=Europe/Berlin:20230524T210000
DTSTAMP:20260419T210522
CREATED:20230315T152513Z
LAST-MODIFIED:20230315T153009Z
UID:10000317-1684954800-1684962000@mennoniten-bern.ch
SUMMARY:Anabaptism@500
DESCRIPTION:Wir lesen und diskutieren einen vorgegebenen Abschnitt aus der Bibel. Die Kommentare und Ergebnisse der Diskussion werden gesammelt und in einer kommentierten Bibelausgabe abgedruckt\, welche die Gruppe Anabaptism@500 (Mennonite Church USA) zur Feier von 500 Jahre Täuferbewegung 2025 herausgibt.
URL:https://mennoniten-bern.ch/event/anabaptism500-3/
LOCATION:Träffer\, Schosshaldenstrasse 43\, Bern\, BE\, 3006\, Schweiz
CATEGORIES:Gemeindeanlass
ATTACH;FMTTYPE=image/png:https://mennoniten-bern.ch/wp-content/uploads/2023/03/AB500_Logo_Horizontal_FullColor_Reversed_RGB_1000px.png
ORGANIZER;CN="Evangelische Mennoniten-Gemeinde%2C Altt%C3%A4ufer Bern":MAILTO:juerg.braeker@menno.ch
END:VEVENT
BEGIN:VEVENT
DTSTART;VALUE=DATE:20230521
DTEND;VALUE=DATE:20230522
DTSTAMP:20260419T210522
CREATED:20221214T160021Z
LAST-MODIFIED:20221214T160021Z
UID:10000262-1684627200-1684713599@mennoniten-bern.ch
SUMMARY:kein Gottesdienst
DESCRIPTION:
URL:https://mennoniten-bern.ch/event/kein-gottesdienst-17/
LOCATION:Träffer\, Schosshaldenstrasse 43\, Bern\, BE\, 3006\, Schweiz
ORGANIZER;CN="Evangelische Mennoniten-Gemeinde%2C Altt%C3%A4ufer Bern":MAILTO:juerg.braeker@menno.ch
END:VEVENT
BEGIN:VEVENT
DTSTART;VALUE=DATE:20230518
DTEND;VALUE=DATE:20230519
DTSTAMP:20260419T210522
CREATED:20221214T155940Z
LAST-MODIFIED:20221214T155940Z
UID:10000261-1684368000-1684454399@mennoniten-bern.ch
SUMMARY:Auffahrt\, kein Gottesdienst
DESCRIPTION:
URL:https://mennoniten-bern.ch/event/auffahrt-kein-gottesdienst/
LOCATION:Träffer\, Schosshaldenstrasse 43\, Bern\, BE\, 3006\, Schweiz
ORGANIZER;CN="Evangelische Mennoniten-Gemeinde%2C Altt%C3%A4ufer Bern":MAILTO:juerg.braeker@menno.ch
END:VEVENT
BEGIN:VEVENT
DTSTART;TZID=Europe/Berlin:20230514T100000
DTEND;TZID=Europe/Berlin:20230514T110000
DTSTAMP:20260419T210522
CREATED:20221214T155855Z
LAST-MODIFIED:20221214T155855Z
UID:10000260-1684058400-1684062000@mennoniten-bern.ch
SUMMARY:Gottesdienst
DESCRIPTION:
URL:https://mennoniten-bern.ch/event/gottesdienst-20/
LOCATION:Träffer\, Schosshaldenstrasse 43\, Bern\, BE\, 3006\, Schweiz
CATEGORIES:Gottesdienst
ORGANIZER;CN="Evangelische Mennoniten-Gemeinde%2C Altt%C3%A4ufer Bern":MAILTO:juerg.braeker@menno.ch
END:VEVENT
BEGIN:VEVENT
DTSTART;TZID=Europe/Berlin:20230510T190000
DTEND;TZID=Europe/Berlin:20230510T210000
DTSTAMP:20260419T210522
CREATED:20230315T152416Z
LAST-MODIFIED:20230315T152919Z
UID:10000316-1683745200-1683752400@mennoniten-bern.ch
SUMMARY:Anabaptism@500
DESCRIPTION:Wir lesen und diskutieren einen vorgegebenen Abschnitt aus der Bibel. Die Kommentare und Ergebnisse der Diskussion werden gesammelt und in einer kommentierten Bibelausgabe abgedruckt\, welche die Gruppe Anabaptism@500 (Mennonite Church USA) zur Feier von 500 Jahre Täuferbewegung 2025 herausgibt.
URL:https://mennoniten-bern.ch/event/anabaptism500-2/
LOCATION:Träffer\, Schosshaldenstrasse 43\, Bern\, BE\, 3006\, Schweiz
CATEGORIES:Gemeindeanlass
ATTACH;FMTTYPE=image/png:https://mennoniten-bern.ch/wp-content/uploads/2023/03/AB500_Logo_Horizontal_FullColor_Reversed_RGB_1000px.png
ORGANIZER;CN="Evangelische Mennoniten-Gemeinde%2C Altt%C3%A4ufer Bern":MAILTO:juerg.braeker@menno.ch
END:VEVENT
BEGIN:VEVENT
DTSTART;TZID=Europe/Berlin:20230507T100000
DTEND;TZID=Europe/Berlin:20230507T110000
DTSTAMP:20260419T210522
CREATED:20221214T155624Z
LAST-MODIFIED:20221214T155732Z
UID:10000259-1683453600-1683457200@mennoniten-bern.ch
SUMMARY:Gottesdienst
DESCRIPTION:
URL:https://mennoniten-bern.ch/event/gottesdienst-19/
LOCATION:Träffer\, Schosshaldenstrasse 43\, Bern\, BE\, 3006\, Schweiz
CATEGORIES:Gottesdienst
ORGANIZER;CN="Evangelische Mennoniten-Gemeinde%2C Altt%C3%A4ufer Bern":MAILTO:juerg.braeker@menno.ch
END:VEVENT
BEGIN:VEVENT
DTSTART;TZID=Europe/Berlin:20230503T190000
DTEND;TZID=Europe/Berlin:20230503T210000
DTSTAMP:20260419T210522
CREATED:20230315T152305Z
LAST-MODIFIED:20230315T152835Z
UID:10000315-1683140400-1683147600@mennoniten-bern.ch
SUMMARY:Anabaptimsm@500
DESCRIPTION:Wir lesen und diskutieren einen vorgegebenen Abschnitt aus der Bibel. Die Kommentare und Ergebnisse der Diskussion werden gesammelt und in einer kommentierten Bibelausgabe abgedruckt\, welche die Gruppe Anabaptism@500 (Mennonite Church USA) zur Feier von 500 Jahre Täuferbewegung 2025 herausgibt.
URL:https://mennoniten-bern.ch/event/anabaptimsm500/
LOCATION:Träffer\, Schosshaldenstrasse 43\, Bern\, BE\, 3006\, Schweiz
CATEGORIES:Gemeindeanlass
ATTACH;FMTTYPE=image/png:https://mennoniten-bern.ch/wp-content/uploads/2023/03/AB500_Logo_Horizontal_FullColor_Reversed_RGB_1000px.png
ORGANIZER;CN="Evangelische Mennoniten-Gemeinde%2C Altt%C3%A4ufer Bern":MAILTO:juerg.braeker@menno.ch
END:VEVENT
BEGIN:VEVENT
DTSTART;VALUE=DATE:20230430
DTEND;VALUE=DATE:20230501
DTSTAMP:20260419T210522
CREATED:20221214T155453Z
LAST-MODIFIED:20221214T155453Z
UID:10000258-1682812800-1682899199@mennoniten-bern.ch
SUMMARY:Kein Gottesdienst
DESCRIPTION:
URL:https://mennoniten-bern.ch/event/kein-gottesdienst-16/
LOCATION:Träffer\, Schosshaldenstrasse 43\, Bern\, BE\, 3006\, Schweiz
CATEGORIES:Gottesdienst
ORGANIZER;CN="Evangelische Mennoniten-Gemeinde%2C Altt%C3%A4ufer Bern":MAILTO:juerg.braeker@menno.ch
END:VEVENT
BEGIN:VEVENT
DTSTART;TZID=Europe/Berlin:20230425T143000
DTEND;TZID=Europe/Berlin:20230425T163000
DTSTAMP:20260419T210522
CREATED:20221214T171152Z
LAST-MODIFIED:20221214T171158Z
UID:10000300-1682433000-1682440200@mennoniten-bern.ch
SUMMARY:Nachmittag 60 plus
DESCRIPTION:
URL:https://mennoniten-bern.ch/event/nachmittag-60-plus-7/
LOCATION:Träffer\, Schosshaldenstrasse 43\, Bern\, BE\, 3006\, Schweiz
CATEGORIES:Diakonie
ORGANIZER;CN="Evangelische Mennoniten-Gemeinde%2C Altt%C3%A4ufer Bern":MAILTO:juerg.braeker@menno.ch
END:VEVENT
BEGIN:VEVENT
DTSTART;TZID=Europe/Berlin:20230423T120000
DTEND;TZID=Europe/Berlin:20230423T150000
DTSTAMP:20260419T210522
CREATED:20230315T152214Z
LAST-MODIFIED:20230315T153228Z
UID:10000314-1682251200-1682262000@mennoniten-bern.ch
SUMMARY:Anabaptism@500
DESCRIPTION:Wir lesen und diskutieren einen vorgegebenen Abschnitt aus der Bibel. Die Kommentare und Ergebnisse der Diskussion werden gesammelt und in einer kommentierten Bibelausgabe abgedruckt\, welche die Gruppe Anabaptism@500 (Mennonite Church USA) zur Feier von 500 Jahre Täuferbewegung 2025 herausgibt. \nFlyer
URL:https://mennoniten-bern.ch/event/anabaptism500/
LOCATION:Träffer\, Schosshaldenstrasse 43\, Bern\, BE\, 3006\, Schweiz
CATEGORIES:Gemeindeanlass
ATTACH;FMTTYPE=image/png:https://mennoniten-bern.ch/wp-content/uploads/2023/03/AB500_Logo_Horizontal_FullColor_Reversed_RGB_1000px.png
ORGANIZER;CN="Evangelische Mennoniten-Gemeinde%2C Altt%C3%A4ufer Bern":MAILTO:juerg.braeker@menno.ch
END:VEVENT
BEGIN:VEVENT
DTSTART;TZID=Europe/Berlin:20230423T100000
DTEND;TZID=Europe/Berlin:20230423T110000
DTSTAMP:20260419T210522
CREATED:20230313T172723Z
LAST-MODIFIED:20230313T172723Z
UID:10000312-1682244000-1682247600@mennoniten-bern.ch
SUMMARY:Gottesdienst
DESCRIPTION:Gastpredigt von Hansuli John Gerber von der Alttäufergemeinde La Chaux-d’Abel
URL:https://mennoniten-bern.ch/event/gottesdienst-31/
LOCATION:Träffer\, Schosshaldenstrasse 43\, Bern\, BE\, 3006\, Schweiz
CATEGORIES:Gottesdienst
ORGANIZER;CN="Evangelische Mennoniten-Gemeinde%2C Altt%C3%A4ufer Bern":MAILTO:juerg.braeker@menno.ch
END:VEVENT
BEGIN:VEVENT
DTSTART;VALUE=DATE:20230416
DTEND;VALUE=DATE:20230417
DTSTAMP:20260419T210522
CREATED:20230313T172841Z
LAST-MODIFIED:20230313T172841Z
UID:10000313-1681603200-1681689599@mennoniten-bern.ch
SUMMARY:kein Gottesdienst
DESCRIPTION:
URL:https://mennoniten-bern.ch/event/kein-gottesdienst-28/
LOCATION:Träffer\, Schosshaldenstrasse 43\, Bern\, BE\, 3006\, Schweiz
ORGANIZER;CN="Evangelische Mennoniten-Gemeinde%2C Altt%C3%A4ufer Bern":MAILTO:juerg.braeker@menno.ch
END:VEVENT
BEGIN:VEVENT
DTSTART;TZID=Europe/Berlin:20230409T100000
DTEND;TZID=Europe/Berlin:20230409T110000
DTSTAMP:20260419T210522
CREATED:20221214T155205Z
LAST-MODIFIED:20230403T203021Z
UID:10000257-1681034400-1681038000@mennoniten-bern.ch
SUMMARY:Ostergottesdienst mit Abendmahl
DESCRIPTION:Herzliche Einladung\, das Osterfest mit uns zu feiern! \nWir feiern den Gottesdienst mit Abendmahl.
URL:https://mennoniten-bern.ch/event/ostergottesdienst-2/
LOCATION:Träffer\, Schosshaldenstrasse 43\, Bern\, BE\, 3006\, Schweiz
CATEGORIES:Gottesdienst
ORGANIZER;CN="Evangelische Mennoniten-Gemeinde%2C Altt%C3%A4ufer Bern":MAILTO:juerg.braeker@menno.ch
END:VEVENT
BEGIN:VEVENT
DTSTART;TZID=Europe/Berlin:20230407T100000
DTEND;TZID=Europe/Berlin:20230407T110000
DTSTAMP:20260419T210522
CREATED:20221214T155040Z
LAST-MODIFIED:20230403T120956Z
UID:10000256-1680861600-1680865200@mennoniten-bern.ch
SUMMARY:Meditation zu Karfreitag
DESCRIPTION:Lieder– Stille – Bilder– Gebete – Texte
URL:https://mennoniten-bern.ch/event/meditation-zum-karfreitag/
LOCATION:Träffer\, Schosshaldenstrasse 43\, Bern\, BE\, 3006\, Schweiz
CATEGORIES:Gottesdienst
ORGANIZER;CN="Evangelische Mennoniten-Gemeinde%2C Altt%C3%A4ufer Bern":MAILTO:juerg.braeker@menno.ch
END:VEVENT
BEGIN:VEVENT
DTSTART;TZID=Europe/Berlin:20230402T100000
DTEND;TZID=Europe/Berlin:20230402T110000
DTSTAMP:20260419T210522
CREATED:20221214T154804Z
LAST-MODIFIED:20230314T094425Z
UID:10000255-1680429600-1680433200@mennoniten-bern.ch
SUMMARY:Kantatengottesdienst zum Palmsonntag
DESCRIPTION:An Palmsonntag erinnern wir uns an den Einzug Jesu in Jerusalem. Dieser königliche Einzug weckte Erwartungen\, dass jetzt eine neue Zeit anbreche. Diese freudige Erwartung prägt auch die Kantate „Wachet auf\, ruft uns die Stimme“ von Johann Sebastian Bach\, BWV 140. Wir hören die Kantate\, einzelne Teile singen wir als Gemeinde\, dazu Besinnungen zu den einzelnen Teilen der Kantate.
URL:https://mennoniten-bern.ch/event/kantatengottesdienst-zum-palmsonntag/
LOCATION:Träffer\, Schosshaldenstrasse 43\, Bern\, BE\, 3006\, Schweiz
CATEGORIES:Gottesdienst
ORGANIZER;CN="Evangelische Mennoniten-Gemeinde%2C Altt%C3%A4ufer Bern":MAILTO:juerg.braeker@menno.ch
END:VEVENT
BEGIN:VEVENT
DTSTART;TZID=Europe/Berlin:20230328T143000
DTEND;TZID=Europe/Berlin:20230328T163000
DTSTAMP:20260419T210522
CREATED:20221214T171052Z
LAST-MODIFIED:20221214T171052Z
UID:10000299-1680013800-1680021000@mennoniten-bern.ch
SUMMARY:Nachmittag 60 plus
DESCRIPTION:
URL:https://mennoniten-bern.ch/event/nachmittag-60-plus-6/
LOCATION:Träffer\, Schosshaldenstrasse 43\, Bern\, BE\, 3006\, Schweiz
ORGANIZER;CN="Evangelische Mennoniten-Gemeinde%2C Altt%C3%A4ufer Bern":MAILTO:juerg.braeker@menno.ch
END:VEVENT
BEGIN:VEVENT
DTSTART;VALUE=DATE:20230326
DTEND;VALUE=DATE:20230327
DTSTAMP:20260419T210522
CREATED:20221214T154544Z
LAST-MODIFIED:20221214T154544Z
UID:10000254-1679788800-1679875199@mennoniten-bern.ch
SUMMARY:Kein Gottesdienst
DESCRIPTION:
URL:https://mennoniten-bern.ch/event/kein-gottesdienst-15/
LOCATION:Träffer\, Schosshaldenstrasse 43\, Bern\, BE\, 3006\, Schweiz
CATEGORIES:Gottesdienst
ORGANIZER;CN="Evangelische Mennoniten-Gemeinde%2C Altt%C3%A4ufer Bern":MAILTO:juerg.braeker@menno.ch
END:VEVENT
BEGIN:VEVENT
DTSTART;TZID=Europe/Berlin:20230319T100000
DTEND;TZID=Europe/Berlin:20230319T110000
DTSTAMP:20260419T210522
CREATED:20221214T154502Z
LAST-MODIFIED:20221214T154502Z
UID:10000253-1679220000-1679223600@mennoniten-bern.ch
SUMMARY:Gottesdienst
DESCRIPTION:
URL:https://mennoniten-bern.ch/event/gottesdienst-18/
LOCATION:Träffer\, Schosshaldenstrasse 43\, Bern\, BE\, 3006\, Schweiz
CATEGORIES:Gottesdienst
ORGANIZER;CN="Evangelische Mennoniten-Gemeinde%2C Altt%C3%A4ufer Bern":MAILTO:juerg.braeker@menno.ch
END:VEVENT
BEGIN:VEVENT
DTSTART;TZID=Europe/Berlin:20230314T190000
DTEND;TZID=Europe/Berlin:20230314T203000
DTSTAMP:20260419T210522
CREATED:20230210T172053Z
LAST-MODIFIED:20230228T104929Z
UID:10000309-1678820400-1678825800@mennoniten-bern.ch
SUMMARY:Mitgliederversammlung Trägerverein Quartierzentrum Träffer
DESCRIPTION:Die jährliche Mitgliederversammlung informiert über die Tätigkeiten des Vereins. \nDie Versammlung bietet neben den formalen Geschäften des Vereins auch Gelegenheiten für Begegnungen mit all denen\, die dieses Haus mit Leben füllen. Herzliche Einladung an alle Mitglieder und die es noch werden wollen! Auch Gäste sind willkommen.
URL:https://mennoniten-bern.ch/event/mitgliederversammlung-traegerverein-quartierzentrum-traeffer/
LOCATION:Träffer\, Schosshaldenstrasse 43\, Bern\, BE\, 3006\, Schweiz
CATEGORIES:Träffer
ORGANIZER;CN="Tr%C3%A4gerverein Quartiertreff Schosshalde (Tr%C3%A4ffer)":MAILTO:info@traeffer.ch
END:VEVENT
BEGIN:VEVENT
DTSTART;VALUE=DATE:20230313
DTEND;VALUE=DATE:20230319
DTSTAMP:20260419T210522
CREATED:20230210T175319Z
LAST-MODIFIED:20230210T175340Z
UID:10000311-1678665600-1679183999@mennoniten-bern.ch
SUMMARY:Fastenwoche Bern-Ost
DESCRIPTION:Die Kirchen in Bern-Ost bieten unter der Leitung von Dorothea Loosli-Amstutz (Älteste Mennoniten-Gemeinde Bern) und Sabine Müller Jahn (Pfarrerin Kirchgemeinde Nydegg) eine begleitete Fastenwoche an. Sie steht unter dem Titel „Welche Welt wollen wir?“ und gehört zur Ökumenischen Kampagne der Hilfswerke HEKS und Fastenaktion. \n2023 Fasten\, Flyer
URL:https://mennoniten-bern.ch/event/fastenwoche-bern-ost/
LOCATION:Träffer\, Schosshaldenstrasse 43\, Bern\, BE\, 3006\, Schweiz
ORGANIZER;CN="Evangelische Mennoniten-Gemeinde%2C Altt%C3%A4ufer Bern":MAILTO:juerg.braeker@menno.ch
END:VEVENT
BEGIN:VEVENT
DTSTART;TZID=Europe/Berlin:20230305T100000
DTEND;TZID=Europe/Berlin:20230305T110000
DTSTAMP:20260419T210522
CREATED:20221202T172041Z
LAST-MODIFIED:20221202T172041Z
UID:10000250-1678010400-1678014000@mennoniten-bern.ch
SUMMARY:Gottesdienst
DESCRIPTION:
URL:https://mennoniten-bern.ch/event/gottesdienst-17/
LOCATION:Träffer\, Schosshaldenstrasse 43\, Bern\, BE\, 3006\, Schweiz
CATEGORIES:Gottesdienst
ORGANIZER;CN="Evangelische Mennoniten-Gemeinde%2C Altt%C3%A4ufer Bern":MAILTO:juerg.braeker@menno.ch
END:VEVENT
BEGIN:VEVENT
DTSTART;TZID=Europe/Berlin:20230228T143000
DTEND;TZID=Europe/Berlin:20230228T163000
DTSTAMP:20260419T210522
CREATED:20221214T170659Z
LAST-MODIFIED:20230211T133703Z
UID:10000298-1677594600-1677601800@mennoniten-bern.ch
SUMMARY:Nachmittag 60 plus
DESCRIPTION:
URL:https://mennoniten-bern.ch/event/nachmittag-60-plus-5/
LOCATION:Träffer\, Schosshaldenstrasse 43\, Bern\, BE\, 3006\, Schweiz
CATEGORIES:Diakonie
ORGANIZER;CN="Evangelische Mennoniten-Gemeinde%2C Altt%C3%A4ufer Bern":MAILTO:juerg.braeker@menno.ch
END:VEVENT
BEGIN:VEVENT
DTSTART;VALUE=DATE:20230226
DTEND;VALUE=DATE:20230227
DTSTAMP:20260419T210522
CREATED:20221202T172139Z
LAST-MODIFIED:20221202T172139Z
UID:10000251-1677369600-1677455999@mennoniten-bern.ch
SUMMARY:kein Gottesdienst
DESCRIPTION:
URL:https://mennoniten-bern.ch/event/kein-gottesdienst-14/
LOCATION:Träffer\, Schosshaldenstrasse 43\, Bern\, BE\, 3006\, Schweiz
ORGANIZER;CN="Evangelische Mennoniten-Gemeinde%2C Altt%C3%A4ufer Bern":MAILTO:juerg.braeker@menno.ch
END:VEVENT
BEGIN:VEVENT
DTSTART;TZID=Europe/Berlin:20230219T100000
DTEND;TZID=Europe/Berlin:20230219T110000
DTSTAMP:20260419T210522
CREATED:20221202T171754Z
LAST-MODIFIED:20221202T171754Z
UID:10000249-1676800800-1676804400@mennoniten-bern.ch
SUMMARY:Gottesdienst
DESCRIPTION:
URL:https://mennoniten-bern.ch/event/gottesdienst-16/
LOCATION:Träffer\, Schosshaldenstrasse 43\, Bern\, BE\, 3006\, Schweiz
CATEGORIES:Gottesdienst
ORGANIZER;CN="Evangelische Mennoniten-Gemeinde%2C Altt%C3%A4ufer Bern":MAILTO:juerg.braeker@menno.ch
END:VEVENT
END:VCALENDAR