BEGIN:VCALENDAR
VERSION:2.0
PRODID:-//Evangelische Mennoniten-Gemeinde Bern, Alttäufer - ECPv6.15.19//NONSGML v1.0//EN
CALSCALE:GREGORIAN
METHOD:PUBLISH
X-WR-CALNAME:Evangelische Mennoniten-Gemeinde Bern, Alttäufer
X-ORIGINAL-URL:https://mennoniten-bern.ch
X-WR-CALDESC:Veranstaltungen für Evangelische Mennoniten-Gemeinde Bern, Alttäufer
REFRESH-INTERVAL;VALUE=DURATION:PT1H
X-Robots-Tag:noindex
X-PUBLISHED-TTL:PT1H
BEGIN:VTIMEZONE
TZID:Europe/Berlin
BEGIN:DAYLIGHT
TZOFFSETFROM:+0100
TZOFFSETTO:+0200
TZNAME:CEST
DTSTART:20220327T010000
END:DAYLIGHT
BEGIN:STANDARD
TZOFFSETFROM:+0200
TZOFFSETTO:+0100
TZNAME:CET
DTSTART:20221030T010000
END:STANDARD
BEGIN:DAYLIGHT
TZOFFSETFROM:+0100
TZOFFSETTO:+0200
TZNAME:CEST
DTSTART:20230326T010000
END:DAYLIGHT
BEGIN:STANDARD
TZOFFSETFROM:+0200
TZOFFSETTO:+0100
TZNAME:CET
DTSTART:20231029T010000
END:STANDARD
BEGIN:DAYLIGHT
TZOFFSETFROM:+0100
TZOFFSETTO:+0200
TZNAME:CEST
DTSTART:20240331T010000
END:DAYLIGHT
BEGIN:STANDARD
TZOFFSETFROM:+0200
TZOFFSETTO:+0100
TZNAME:CET
DTSTART:20241027T010000
END:STANDARD
END:VTIMEZONE
BEGIN:VEVENT
DTSTART;TZID=Europe/Berlin:20231210T100000
DTEND;TZID=Europe/Berlin:20231210T110000
DTSTAMP:20260419T180414
CREATED:20221214T170026Z
LAST-MODIFIED:20230811T150851Z
UID:10000292-1702202400-1702206000@mennoniten-bern.ch
SUMMARY:Gottesdienst zum 2. Advent
DESCRIPTION:
URL:https://mennoniten-bern.ch/event/gottesdienst-zum-2-advent-2/
LOCATION:Träffer\, Schosshaldenstrasse 43\, Bern\, BE\, 3006\, Schweiz
CATEGORIES:Gottesdienst
ORGANIZER;CN="Evangelische Mennoniten-Gemeinde%2C Altt%C3%A4ufer Bern":MAILTO:juerg.braeker@menno.ch
END:VEVENT
BEGIN:VEVENT
DTSTART;TZID=Europe/Berlin:20231208T180000
DTEND;TZID=Europe/Berlin:20231208T200000
DTSTAMP:20260419T180414
CREATED:20231208T122229Z
LAST-MODIFIED:20231208T122229Z
UID:10000334-1702058400-1702065600@mennoniten-bern.ch
SUMMARY:Adventsfenster im Träffer
DESCRIPTION:Im Schosshalden- und Obstbergquartier öffnet in der Adventszeit Tag um Tag ein neues Adventsfenster. Das Fenster im Träffer wird mit einem besonderen Anlass eröffnet: Ab 18 Uhr gibt es Suppe\, danach gemeinsames Singen von Adventsliedern\, unter der Leitung von Christa Geber. Herzliche Einladung!
URL:https://mennoniten-bern.ch/event/adventsfenster-im-traeffer/
LOCATION:Träffer\, Schosshaldenstrasse 43\, Bern\, BE\, 3006\, Schweiz
ORGANIZER;CN="Evangelische Mennoniten-Gemeinde%2C Altt%C3%A4ufer Bern":MAILTO:juerg.braeker@menno.ch
END:VEVENT
BEGIN:VEVENT
DTSTART;TZID=Europe/Berlin:20231203T100000
DTEND;TZID=Europe/Berlin:20231203T110000
DTSTAMP:20260419T180414
CREATED:20221214T165942Z
LAST-MODIFIED:20231119T121103Z
UID:10000291-1701597600-1701601200@mennoniten-bern.ch
SUMMARY:Gottesdienst zum 1. Advent\, mit Abendmahl
DESCRIPTION:Gottesdienst mit Abendmahl. \nWir feiern mit den Gaben der Schöpfung das Versprechen Jesu\, unter uns gegenwärtig zu sein.
URL:https://mennoniten-bern.ch/event/gottesdienst-zum-1-advent/
LOCATION:Träffer\, Schosshaldenstrasse 43\, Bern\, BE\, 3006\, Schweiz
CATEGORIES:Gottesdienst
ORGANIZER;CN="Evangelische Mennoniten-Gemeinde%2C Altt%C3%A4ufer Bern":MAILTO:juerg.braeker@menno.ch
END:VEVENT
BEGIN:VEVENT
DTSTART;TZID=Europe/Berlin:20231128T143000
DTEND;TZID=Europe/Berlin:20231128T163000
DTSTAMP:20260419T180414
CREATED:20221214T171700Z
LAST-MODIFIED:20221214T171700Z
UID:10000306-1701181800-1701189000@mennoniten-bern.ch
SUMMARY:Nachmittag 60 plus
DESCRIPTION:
URL:https://mennoniten-bern.ch/event/nachmittag-60-plus-12/
LOCATION:Träffer\, Schosshaldenstrasse 43\, Bern\, BE\, 3006\, Schweiz
CATEGORIES:Diakonie
ORGANIZER;CN="Evangelische Mennoniten-Gemeinde%2C Altt%C3%A4ufer Bern":MAILTO:juerg.braeker@menno.ch
END:VEVENT
BEGIN:VEVENT
DTSTART;VALUE=DATE:20231126
DTEND;VALUE=DATE:20231127
DTSTAMP:20260419T180414
CREATED:20221214T165739Z
LAST-MODIFIED:20221214T165739Z
UID:10000290-1700956800-1701043199@mennoniten-bern.ch
SUMMARY:kein Gottesdienst
DESCRIPTION:
URL:https://mennoniten-bern.ch/event/kein-gottesdienst-26/
LOCATION:Träffer\, Schosshaldenstrasse 43\, Bern\, BE\, 3006\, Schweiz
CATEGORIES:Gottesdienst
ORGANIZER;CN="Evangelische Mennoniten-Gemeinde%2C Altt%C3%A4ufer Bern":MAILTO:juerg.braeker@menno.ch
END:VEVENT
BEGIN:VEVENT
DTSTART;TZID=Europe/Berlin:20231119T100000
DTEND;TZID=Europe/Berlin:20231119T110000
DTSTAMP:20260419T180414
CREATED:20221214T165146Z
LAST-MODIFIED:20231025T174002Z
UID:10000288-1700388000-1700391600@mennoniten-bern.ch
SUMMARY:Kantatengottesdienst
DESCRIPTION:Die Kantate von Johann Sebastian Bach „Die Elenden sollen essen“ BWV 75 gibt uns den Leitfaden durch den Gottesdienst.
URL:https://mennoniten-bern.ch/event/gottesdienst-30/
LOCATION:Träffer\, Schosshaldenstrasse 43\, Bern\, BE\, 3006\, Schweiz
CATEGORIES:Gottesdienst
ORGANIZER;CN="Evangelische Mennoniten-Gemeinde%2C Altt%C3%A4ufer Bern":MAILTO:juerg.braeker@menno.ch
END:VEVENT
BEGIN:VEVENT
DTSTART;TZID=Europe/Berlin:20231112T110000
DTEND;TZID=Europe/Berlin:20231112T140000
DTSTAMP:20260419T180414
CREATED:20221214T164922Z
LAST-MODIFIED:20231025T173915Z
UID:10000287-1699786800-1699797600@mennoniten-bern.ch
SUMMARY:Matinée mit Klang – Wort – Stille
DESCRIPTION:Klang – Wort – Stille ; \nanschliessend Apéro
URL:https://mennoniten-bern.ch/event/abendfeier-2/
LOCATION:Träffer\, Schosshaldenstrasse 43\, Bern\, BE\, 3006\, Schweiz
CATEGORIES:Gemeindeanlass,Gottesdienst
ATTACH;FMTTYPE=image/jpeg:https://mennoniten-bern.ch/wp-content/uploads/2023/08/mathieu-perrier-DH1cJ34LL34-unsplash.jpg
ORGANIZER;CN="Evangelische Mennoniten-Gemeinde%2C Altt%C3%A4ufer Bern":MAILTO:juerg.braeker@menno.ch
END:VEVENT
BEGIN:VEVENT
DTSTART;TZID=Europe/Berlin:20231105T100000
DTEND;TZID=Europe/Berlin:20231105T110000
DTSTAMP:20260419T180414
CREATED:20221214T164751Z
LAST-MODIFIED:20231025T173608Z
UID:10000286-1699178400-1699182000@mennoniten-bern.ch
SUMMARY:Liturgischer Gottesdienst
DESCRIPTION:Liturgischer Gottesdienst mit Texten\, Liedern und Musik
URL:https://mennoniten-bern.ch/event/gottesdienst-29/
LOCATION:Träffer\, Schosshaldenstrasse 43\, Bern\, BE\, 3006\, Schweiz
CATEGORIES:Gottesdienst
ORGANIZER;CN="Evangelische Mennoniten-Gemeinde%2C Altt%C3%A4ufer Bern":MAILTO:juerg.braeker@menno.ch
END:VEVENT
BEGIN:VEVENT
DTSTART;TZID=Europe/Berlin:20231031T143000
DTEND;TZID=Europe/Berlin:20231031T163000
DTSTAMP:20260419T180414
CREATED:20221214T171545Z
LAST-MODIFIED:20221214T171545Z
UID:10000305-1698762600-1698769800@mennoniten-bern.ch
SUMMARY:Nachmittag 60 plus
DESCRIPTION:
URL:https://mennoniten-bern.ch/event/nachmittag-60-plus-11/
LOCATION:Träffer\, Schosshaldenstrasse 43\, Bern\, BE\, 3006\, Schweiz
CATEGORIES:Diakonie
ORGANIZER;CN="Evangelische Mennoniten-Gemeinde%2C Altt%C3%A4ufer Bern":MAILTO:juerg.braeker@menno.ch
END:VEVENT
BEGIN:VEVENT
DTSTART;TZID=Europe/Berlin:20231029T100000
DTEND;TZID=Europe/Berlin:20231029T140000
DTSTAMP:20260419T180414
CREATED:20221214T164559Z
LAST-MODIFIED:20231025T173720Z
UID:10000285-1698573600-1698588000@mennoniten-bern.ch
SUMMARY:Erntedankgottesdienst mit Mittagessen
DESCRIPTION:Wir feiern miteinander die Gaben\, mit denen unser Leben beschenkt ist und was uns zum Teilen und Danken gegeben ist. \nAnschliessend kanadisches Buffet: Wer möchte\, bringt einen Salat\, eine Käseplatte\, Gemüse\, ein Dessert oder was auch immer mit. Aus dem Mitgebrachten stellen wir ein Buffet zusammen\, von dem sich alle bedienen dürfen.
URL:https://mennoniten-bern.ch/event/kein-gottesdienst-25/
LOCATION:Träffer\, Schosshaldenstrasse 43\, Bern\, BE\, 3006\, Schweiz
CATEGORIES:Gemeindeanlass,Gottesdienst
ATTACH;FMTTYPE=image/jpeg:https://mennoniten-bern.ch/wp-content/uploads/2023/06/Erntedank-scaled.jpg
ORGANIZER;CN="Evangelische Mennoniten-Gemeinde%2C Altt%C3%A4ufer Bern":MAILTO:juerg.braeker@menno.ch
END:VEVENT
BEGIN:VEVENT
DTSTART;TZID=Europe/Berlin:20231022T100000
DTEND;TZID=Europe/Berlin:20231022T110000
DTSTAMP:20260419T180414
CREATED:20221214T164529Z
LAST-MODIFIED:20230811T144939Z
UID:10000284-1697968800-1697972400@mennoniten-bern.ch
SUMMARY:Gottesdienst
DESCRIPTION:
URL:https://mennoniten-bern.ch/event/gottesdienst-28/
LOCATION:Träffer\, Schosshaldenstrasse 43\, Bern\, BE\, 3006\, Schweiz
CATEGORIES:Gottesdienst
ORGANIZER;CN="Evangelische Mennoniten-Gemeinde%2C Altt%C3%A4ufer Bern":MAILTO:juerg.braeker@menno.ch
END:VEVENT
BEGIN:VEVENT
DTSTART;VALUE=DATE:20231015
DTEND;VALUE=DATE:20231016
DTSTAMP:20260419T180414
CREATED:20221214T164450Z
LAST-MODIFIED:20221214T164450Z
UID:10000283-1697328000-1697414399@mennoniten-bern.ch
SUMMARY:kein Gottesdienst
DESCRIPTION:
URL:https://mennoniten-bern.ch/event/kein-gottesdienst-24/
LOCATION:Träffer\, Schosshaldenstrasse 43\, Bern\, BE\, 3006\, Schweiz
ORGANIZER;CN="Evangelische Mennoniten-Gemeinde%2C Altt%C3%A4ufer Bern":MAILTO:juerg.braeker@menno.ch
END:VEVENT
BEGIN:VEVENT
DTSTART;VALUE=DATE:20231008
DTEND;VALUE=DATE:20231009
DTSTAMP:20260419T180414
CREATED:20221214T164419Z
LAST-MODIFIED:20221214T164419Z
UID:10000282-1696723200-1696809599@mennoniten-bern.ch
SUMMARY:kein Gottesdienst
DESCRIPTION:
URL:https://mennoniten-bern.ch/event/kein-gottesdienst-23/
LOCATION:Träffer\, Schosshaldenstrasse 43\, Bern\, BE\, 3006\, Schweiz
CATEGORIES:Gottesdienst
ORGANIZER;CN="Evangelische Mennoniten-Gemeinde%2C Altt%C3%A4ufer Bern":MAILTO:juerg.braeker@menno.ch
END:VEVENT
BEGIN:VEVENT
DTSTART;VALUE=DATE:20231001
DTEND;VALUE=DATE:20231002
DTSTAMP:20260419T180414
CREATED:20230924T072531Z
LAST-MODIFIED:20230924T072531Z
UID:10000331-1696118400-1696204799@mennoniten-bern.ch
SUMMARY:kein Gottesdienst
DESCRIPTION:
URL:https://mennoniten-bern.ch/event/kein-gottesdienst-30/
LOCATION:Träffer\, Schosshaldenstrasse 43\, Bern\, BE\, 3006\, Schweiz
CATEGORIES:Gottesdienst
ORGANIZER;CN="Evangelische Mennoniten-Gemeinde%2C Altt%C3%A4ufer Bern":MAILTO:juerg.braeker@menno.ch
END:VEVENT
BEGIN:VEVENT
DTSTART;TZID=Europe/Berlin:20230910T100000
DTEND;TZID=Europe/Berlin:20230910T110000
DTSTAMP:20260419T180414
CREATED:20221214T163803Z
LAST-MODIFIED:20230623T171919Z
UID:10000278-1694340000-1694343600@mennoniten-bern.ch
SUMMARY:Gottesdienst mit Abendmahl
DESCRIPTION:Wir feiern mit den Gaben der Schöpfung das Versprechen Jesu\, unter uns gegenwärtig zu sein.
URL:https://mennoniten-bern.ch/event/gottesdienst-26/
LOCATION:Träffer\, Schosshaldenstrasse 43\, Bern\, BE\, 3006\, Schweiz
CATEGORIES:Gottesdienst
ORGANIZER;CN="Evangelische Mennoniten-Gemeinde%2C Altt%C3%A4ufer Bern":MAILTO:juerg.braeker@menno.ch
END:VEVENT
BEGIN:VEVENT
DTSTART;TZID=Europe/Berlin:20230903T100000
DTEND;TZID=Europe/Berlin:20230903T110000
DTSTAMP:20260419T180414
CREATED:20221214T162440Z
LAST-MODIFIED:20230811T143620Z
UID:10000276-1693735200-1693738800@mennoniten-bern.ch
SUMMARY:Gottesdienst mit der ev.-ref. Kirchgemeinde Nydegg
DESCRIPTION:Wir feiern den Gottesdienst zusammen mit der Ev. reformierten Kirchegemeinde Nydegg im Träffer.
URL:https://mennoniten-bern.ch/event/gottesdienst-mit-der-ev-ref-kirchgemeinde-nydegg/
LOCATION:Träffer\, Schosshaldenstrasse 43\, Bern\, BE\, 3006\, Schweiz
CATEGORIES:Gottesdienst
ORGANIZER;CN="Evangelische Mennoniten-Gemeinde%2C Altt%C3%A4ufer Bern":MAILTO:juerg.braeker@menno.ch
END:VEVENT
BEGIN:VEVENT
DTSTART;TZID=Europe/Berlin:20230829T143000
DTEND;TZID=Europe/Berlin:20230829T163000
DTSTAMP:20260419T180414
CREATED:20221214T171358Z
LAST-MODIFIED:20230811T144017Z
UID:10000303-1693319400-1693326600@mennoniten-bern.ch
SUMMARY:Nachmittag 60 plus
DESCRIPTION:
URL:https://mennoniten-bern.ch/event/nachmittag-60-plus-10/
LOCATION:Träffer\, Schosshaldenstrasse 43\, Bern\, BE\, 3006\, Schweiz
CATEGORIES:Diakonie,Senioren
ORGANIZER;CN="Evangelische Mennoniten-Gemeinde%2C Altt%C3%A4ufer Bern":MAILTO:juerg.braeker@menno.ch
END:VEVENT
BEGIN:VEVENT
DTSTART;VALUE=DATE:20230827
DTEND;VALUE=DATE:20230828
DTSTAMP:20260419T180414
CREATED:20221214T162213Z
LAST-MODIFIED:20221214T162213Z
UID:10000275-1693094400-1693180799@mennoniten-bern.ch
SUMMARY:kein Gottesdienst
DESCRIPTION:
URL:https://mennoniten-bern.ch/event/kein-gottesdienst-21/
LOCATION:Träffer\, Schosshaldenstrasse 43\, Bern\, BE\, 3006\, Schweiz
ORGANIZER;CN="Evangelische Mennoniten-Gemeinde%2C Altt%C3%A4ufer Bern":MAILTO:juerg.braeker@menno.ch
END:VEVENT
BEGIN:VEVENT
DTSTART;TZID=Europe/Berlin:20230813T100000
DTEND;TZID=Europe/Berlin:20230813T110000
DTSTAMP:20260419T180414
CREATED:20230513T144232Z
LAST-MODIFIED:20230706T132257Z
UID:10000318-1691920800-1691924400@mennoniten-bern.ch
SUMMARY:Gottesdienst
DESCRIPTION:Gottesdienst mit Gastpredigt von Thomas Haenni\, Pastor in der Mennonitengemeinde Brügg (KMS Predigtbesuche)
URL:https://mennoniten-bern.ch/event/gottesdienst-32/
LOCATION:Träffer\, Schosshaldenstrasse 43\, Bern\, BE\, 3006\, Schweiz
CATEGORIES:Gottesdienst
ORGANIZER;CN="Evangelische Mennoniten-Gemeinde%2C Altt%C3%A4ufer Bern":MAILTO:juerg.braeker@menno.ch
END:VEVENT
BEGIN:VEVENT
DTSTART;TZID=Europe/Berlin:20230806T100000
DTEND;TZID=Europe/Berlin:20230806T110000
DTSTAMP:20260419T180414
CREATED:20221214T161610Z
LAST-MODIFIED:20221214T161709Z
UID:10000272-1691316000-1691319600@mennoniten-bern.ch
SUMMARY:Gottesdienst
DESCRIPTION:
URL:https://mennoniten-bern.ch/event/gottesdienst-24/
LOCATION:Träffer\, Schosshaldenstrasse 43\, Bern\, BE\, 3006\, Schweiz
CATEGORIES:Gottesdienst
ORGANIZER;CN="Evangelische Mennoniten-Gemeinde%2C Altt%C3%A4ufer Bern":MAILTO:juerg.braeker@menno.ch
END:VEVENT
BEGIN:VEVENT
DTSTART;VALUE=DATE:20230716
DTEND;VALUE=DATE:20230717
DTSTAMP:20260419T180414
CREATED:20221214T161314Z
LAST-MODIFIED:20221214T161314Z
UID:10000270-1689465600-1689551999@mennoniten-bern.ch
SUMMARY:kein Gottesdienst
DESCRIPTION:
URL:https://mennoniten-bern.ch/event/kein-gottesdienst-20/
LOCATION:Träffer\, Schosshaldenstrasse 43\, Bern\, BE\, 3006\, Schweiz
ORGANIZER;CN="Evangelische Mennoniten-Gemeinde%2C Altt%C3%A4ufer Bern":MAILTO:juerg.braeker@menno.ch
END:VEVENT
BEGIN:VEVENT
DTSTART;VALUE=DATE:20230709
DTEND;VALUE=DATE:20230710
DTSTAMP:20260419T180414
CREATED:20221214T161229Z
LAST-MODIFIED:20221214T161229Z
UID:10000269-1688860800-1688947199@mennoniten-bern.ch
SUMMARY:kein Gottesdienst
DESCRIPTION:
URL:https://mennoniten-bern.ch/event/kein-gottesdienst-19/
LOCATION:Träffer\, Schosshaldenstrasse 43\, Bern\, BE\, 3006\, Schweiz
CATEGORIES:Gottesdienst
ORGANIZER;CN="Evangelische Mennoniten-Gemeinde%2C Altt%C3%A4ufer Bern":MAILTO:juerg.braeker@menno.ch
END:VEVENT
BEGIN:VEVENT
DTSTART;TZID=Europe/Berlin:20230702T100000
DTEND;TZID=Europe/Berlin:20230702T110000
DTSTAMP:20260419T180414
CREATED:20221214T161159Z
LAST-MODIFIED:20221214T161159Z
UID:10000268-1688292000-1688295600@mennoniten-bern.ch
SUMMARY:Gottesdienst
DESCRIPTION:
URL:https://mennoniten-bern.ch/event/gottesdienst-23/
LOCATION:Träffer\, Schosshaldenstrasse 43\, Bern\, BE\, 3006\, Schweiz
CATEGORIES:Gottesdienst
ORGANIZER;CN="Evangelische Mennoniten-Gemeinde%2C Altt%C3%A4ufer Bern":MAILTO:juerg.braeker@menno.ch
END:VEVENT
BEGIN:VEVENT
DTSTART;TZID=Europe/Berlin:20230627T143000
DTEND;TZID=Europe/Berlin:20230627T163000
DTSTAMP:20260419T180414
CREATED:20221214T171315Z
LAST-MODIFIED:20221214T171315Z
UID:10000302-1687876200-1687883400@mennoniten-bern.ch
SUMMARY:Nachmittag 60 plus
DESCRIPTION:
URL:https://mennoniten-bern.ch/event/nachmittag-60-plus-9/
LOCATION:Träffer\, Schosshaldenstrasse 43\, Bern\, BE\, 3006\, Schweiz
CATEGORIES:Diakonie
ORGANIZER;CN="Evangelische Mennoniten-Gemeinde%2C Altt%C3%A4ufer Bern":MAILTO:juerg.braeker@menno.ch
END:VEVENT
BEGIN:VEVENT
DTSTART;VALUE=DATE:20230625
DTEND;VALUE=DATE:20230626
DTSTAMP:20260419T180414
CREATED:20221214T161047Z
LAST-MODIFIED:20221214T161056Z
UID:10000267-1687651200-1687737599@mennoniten-bern.ch
SUMMARY:kein Gottesdienst
DESCRIPTION:Predigtbesuche KMS
URL:https://mennoniten-bern.ch/event/kein-gottesdienst-18/
LOCATION:Träffer\, Schosshaldenstrasse 43\, Bern\, BE\, 3006\, Schweiz
ORGANIZER;CN="Evangelische Mennoniten-Gemeinde%2C Altt%C3%A4ufer Bern":MAILTO:juerg.braeker@menno.ch
END:VEVENT
BEGIN:VEVENT
DTSTART;TZID=Europe/Berlin:20230618T170000
DTEND;TZID=Europe/Berlin:20230618T200000
DTSTAMP:20260419T180414
CREATED:20221214T160941Z
LAST-MODIFIED:20230611T144709Z
UID:10000266-1687107600-1687118400@mennoniten-bern.ch
SUMMARY:Abendfeier
DESCRIPTION:Klang – Wort – Stille mit anschliessendem Sommerznacht und gemütlichem Austausch. Herzliche Einladung an alle! \n 
URL:https://mennoniten-bern.ch/event/abendfeier/
LOCATION:Träffer\, Schosshaldenstrasse 43\, Bern\, BE\, 3006\, Schweiz
CATEGORIES:Gottesdienst
ATTACH;FMTTYPE=image/jpeg:https://mennoniten-bern.ch/wp-content/uploads/2023/06/Klang-e1686494950877.jpg
ORGANIZER;CN="Evangelische Mennoniten-Gemeinde%2C Altt%C3%A4ufer Bern":MAILTO:juerg.braeker@menno.ch
END:VEVENT
BEGIN:VEVENT
DTSTART;TZID=Europe/Berlin:20230611T100000
DTEND;TZID=Europe/Berlin:20230611T110000
DTSTAMP:20260419T180414
CREATED:20221214T160817Z
LAST-MODIFIED:20221214T160817Z
UID:10000265-1686477600-1686481200@mennoniten-bern.ch
SUMMARY:Gottesdienst
DESCRIPTION:
URL:https://mennoniten-bern.ch/event/gottesdienst-22/
LOCATION:Träffer\, Schosshaldenstrasse 43\, Bern\, BE\, 3006\, Schweiz
CATEGORIES:Gottesdienst
ORGANIZER;CN="Evangelische Mennoniten-Gemeinde%2C Altt%C3%A4ufer Bern":MAILTO:juerg.braeker@menno.ch
END:VEVENT
BEGIN:VEVENT
DTSTART;TZID=Europe/Berlin:20230604T100000
DTEND;TZID=Europe/Berlin:20230604T110000
DTSTAMP:20260419T180414
CREATED:20221214T160703Z
LAST-MODIFIED:20230527T092352Z
UID:10000264-1685872800-1685876400@mennoniten-bern.ch
SUMMARY:Gottesdienst
DESCRIPTION:Gottesdienst mit Gastpredigt von David Kuratle\, Pfarrer und Einzel-\, Paar- und Familientherapeut
URL:https://mennoniten-bern.ch/event/gottesdienst-21/
LOCATION:Träffer\, Schosshaldenstrasse 43\, Bern\, BE\, 3006\, Schweiz
CATEGORIES:Gottesdienst
ORGANIZER;CN="Evangelische Mennoniten-Gemeinde%2C Altt%C3%A4ufer Bern":MAILTO:juerg.braeker@menno.ch
END:VEVENT
BEGIN:VEVENT
DTSTART;TZID=Europe/Berlin:20230530T143000
DTEND;TZID=Europe/Berlin:20230530T163000
DTSTAMP:20260419T180414
CREATED:20221214T171233Z
LAST-MODIFIED:20221214T171233Z
UID:10000301-1685457000-1685464200@mennoniten-bern.ch
SUMMARY:Nachmittag 60 plus
DESCRIPTION:
URL:https://mennoniten-bern.ch/event/nachmittag-60-plus-8/
LOCATION:Träffer\, Schosshaldenstrasse 43\, Bern\, BE\, 3006\, Schweiz
CATEGORIES:Diakonie
ORGANIZER;CN="Evangelische Mennoniten-Gemeinde%2C Altt%C3%A4ufer Bern":MAILTO:juerg.braeker@menno.ch
END:VEVENT
BEGIN:VEVENT
DTSTART;TZID=Europe/Berlin:20230528T100000
DTEND;TZID=Europe/Berlin:20230528T110000
DTSTAMP:20260419T180414
CREATED:20221214T160125Z
LAST-MODIFIED:20230406T145453Z
UID:10000263-1685268000-1685271600@mennoniten-bern.ch
SUMMARY:Pfingstgottesdienst
DESCRIPTION:
URL:https://mennoniten-bern.ch/event/pfingstgottesdienst-2/
LOCATION:Träffer\, Schosshaldenstrasse 43\, Bern\, BE\, 3006\, Schweiz
CATEGORIES:Gottesdienst
ORGANIZER;CN="Evangelische Mennoniten-Gemeinde%2C Altt%C3%A4ufer Bern":MAILTO:juerg.braeker@menno.ch
END:VEVENT
END:VCALENDAR