BEGIN:VCALENDAR
VERSION:2.0
PRODID:-//Evangelische Mennoniten-Gemeinde Bern, Alttäufer - ECPv6.15.19//NONSGML v1.0//EN
CALSCALE:GREGORIAN
METHOD:PUBLISH
X-WR-CALNAME:Evangelische Mennoniten-Gemeinde Bern, Alttäufer
X-ORIGINAL-URL:https://mennoniten-bern.ch
X-WR-CALDESC:Veranstaltungen für Evangelische Mennoniten-Gemeinde Bern, Alttäufer
REFRESH-INTERVAL;VALUE=DURATION:PT1H
X-Robots-Tag:noindex
X-PUBLISHED-TTL:PT1H
BEGIN:VTIMEZONE
TZID:Europe/Berlin
BEGIN:DAYLIGHT
TZOFFSETFROM:+0100
TZOFFSETTO:+0200
TZNAME:CEST
DTSTART:20220327T010000
END:DAYLIGHT
BEGIN:STANDARD
TZOFFSETFROM:+0200
TZOFFSETTO:+0100
TZNAME:CET
DTSTART:20221030T010000
END:STANDARD
BEGIN:DAYLIGHT
TZOFFSETFROM:+0100
TZOFFSETTO:+0200
TZNAME:CEST
DTSTART:20230326T010000
END:DAYLIGHT
BEGIN:STANDARD
TZOFFSETFROM:+0200
TZOFFSETTO:+0100
TZNAME:CET
DTSTART:20231029T010000
END:STANDARD
BEGIN:DAYLIGHT
TZOFFSETFROM:+0100
TZOFFSETTO:+0200
TZNAME:CEST
DTSTART:20240331T010000
END:DAYLIGHT
BEGIN:STANDARD
TZOFFSETFROM:+0200
TZOFFSETTO:+0100
TZNAME:CET
DTSTART:20241027T010000
END:STANDARD
BEGIN:DAYLIGHT
TZOFFSETFROM:+0100
TZOFFSETTO:+0200
TZNAME:CEST
DTSTART:20250330T010000
END:DAYLIGHT
BEGIN:STANDARD
TZOFFSETFROM:+0200
TZOFFSETTO:+0100
TZNAME:CET
DTSTART:20251026T010000
END:STANDARD
END:VTIMEZONE
BEGIN:VEVENT
DTSTART;TZID=Europe/Berlin:20240602T170000
DTEND;TZID=Europe/Berlin:20240602T183000
DTSTAMP:20260419T144515
CREATED:20240105T172453Z
LAST-MODIFIED:20240508T090412Z
UID:10000353-1717347600-1717353000@mennoniten-bern.ch
SUMMARY:Klang – Wort – Stille
DESCRIPTION:Einen Moment innehalten\, mit Texten\, Klängen und Stille. \nAnschliessend sind alle eingeladen zu einem einfachen Abendessen. \nMit Richard Weber und Kathy Gerber.
URL:https://mennoniten-bern.ch/event/wort-klang-stille/
LOCATION:Träffer\, Schosshaldenstrasse 43\, Bern\, BE\, 3006\, Schweiz
CATEGORIES:Gemeindeanlass,Gottesdienst
ORGANIZER;CN="Evangelische Mennoniten-Gemeinde%2C Altt%C3%A4ufer Bern":MAILTO:juerg.braeker@menno.ch
END:VEVENT
BEGIN:VEVENT
DTSTART;TZID=Europe/Berlin:20240526T100000
DTEND;TZID=Europe/Berlin:20240526T110000
DTSTAMP:20260419T144515
CREATED:20240105T172808Z
LAST-MODIFIED:20240429T203553Z
UID:10000354-1716717600-1716721200@mennoniten-bern.ch
SUMMARY:Gottesdienst mit Gastpredigt von Emanuel Neufeld
DESCRIPTION:Emanuel Neufeld ist Pastor in der Mennonitengemeinde Schänzli in Muttenz.
URL:https://mennoniten-bern.ch/event/gottesdienst-mit-gastpredigt-von-emanuel-neufeld-mit-abendmahl/
LOCATION:Träffer\, Schosshaldenstrasse 43\, Bern\, BE\, 3006\, Schweiz
CATEGORIES:Gottesdienst
ORGANIZER;CN="Evangelische Mennoniten-Gemeinde%2C Altt%C3%A4ufer Bern":MAILTO:juerg.braeker@menno.ch
END:VEVENT
BEGIN:VEVENT
DTSTART;TZID=Europe/Berlin:20240512T100000
DTEND;TZID=Europe/Berlin:20240512T110000
DTSTAMP:20260419T144515
CREATED:20240105T171319Z
LAST-MODIFIED:20240105T171319Z
UID:10000351-1715508000-1715511600@mennoniten-bern.ch
SUMMARY:Gottesdienst
DESCRIPTION:
URL:https://mennoniten-bern.ch/event/gottesdienst-40/
LOCATION:Träffer\, Schosshaldenstrasse 43\, Bern\, BE\, 3006\, Schweiz
CATEGORIES:Gottesdienst
ORGANIZER;CN="Evangelische Mennoniten-Gemeinde%2C Altt%C3%A4ufer Bern":MAILTO:juerg.braeker@menno.ch
END:VEVENT
BEGIN:VEVENT
DTSTART;TZID=Europe/Berlin:20240507T193000
DTEND;TZID=Europe/Berlin:20240507T213000
DTSTAMP:20260419T144515
CREATED:20240506T092853Z
LAST-MODIFIED:20240506T092853Z
UID:10000395-1715110200-1715117400@mennoniten-bern.ch
SUMMARY:Planungsabend
DESCRIPTION:Zweimal im Jahr  treffen sich alle Personen\, die an den Gottesdiensten unserer Gemeinde beteiligt sind\, um die Gottesdienste und weitere Aktivitäten der Gemeinde zu planen. Alle sind eingeladen\, sich an der Planung zu beteiligen.
URL:https://mennoniten-bern.ch/event/planungsabend-4/
LOCATION:Träffer\, Schosshaldenstrasse 43\, Bern\, BE\, 3006\, Schweiz
ORGANIZER;CN="Evangelische Mennoniten-Gemeinde%2C Altt%C3%A4ufer Bern":MAILTO:juerg.braeker@menno.ch
END:VEVENT
BEGIN:VEVENT
DTSTART;TZID=Europe/Berlin:20240505T100000
DTEND;TZID=Europe/Berlin:20240505T110000
DTSTAMP:20260419T144515
CREATED:20240105T171218Z
LAST-MODIFIED:20240105T202633Z
UID:10000350-1714903200-1714906800@mennoniten-bern.ch
SUMMARY:Gottesdienst mit Gastpredigt von Ella de Groot
DESCRIPTION:Ella de Groot war bis 2021 Pfarrerin in der evangelisch-reformierten Kirchgemeinde Muri-Gümligen. Sie eröffnet mit ihrer Hinterfragung gängiger Gottesbilder vielen Menschen neue Zugänge zum Glauben.
URL:https://mennoniten-bern.ch/event/gottesdienst-39/
LOCATION:Träffer\, Schosshaldenstrasse 43\, Bern\, BE\, 3006\, Schweiz
CATEGORIES:Gottesdienst
ORGANIZER;CN="Evangelische Mennoniten-Gemeinde%2C Altt%C3%A4ufer Bern":MAILTO:juerg.braeker@menno.ch
END:VEVENT
BEGIN:VEVENT
DTSTART;TZID=Europe/Berlin:20240430T143000
DTEND;TZID=Europe/Berlin:20240430T170000
DTSTAMP:20260419T144515
CREATED:20240313T180658Z
LAST-MODIFIED:20240313T180658Z
UID:10000381-1714487400-1714496400@mennoniten-bern.ch
SUMMARY:Treffen 60-plus
DESCRIPTION:
URL:https://mennoniten-bern.ch/event/treffen-60-plus-3/
LOCATION:Träffer\, Schosshaldenstrasse 43\, Bern\, BE\, 3006\, Schweiz
CATEGORIES:Diakonie
ORGANIZER;CN="Evangelische Mennoniten-Gemeinde%2C Altt%C3%A4ufer Bern":MAILTO:juerg.braeker@menno.ch
END:VEVENT
BEGIN:VEVENT
DTSTART;TZID=Europe/Berlin:20240428T100000
DTEND;TZID=Europe/Berlin:20240428T110000
DTSTAMP:20260419T144515
CREATED:20231212T154201Z
LAST-MODIFIED:20240105T171417Z
UID:10000347-1714298400-1714302000@mennoniten-bern.ch
SUMMARY:Gottesdienst
DESCRIPTION:
URL:https://mennoniten-bern.ch/event/gottesdienst-38/
LOCATION:Träffer\, Schosshaldenstrasse 43\, Bern\, BE\, 3006\, Schweiz
CATEGORIES:Gottesdienst
ORGANIZER;CN="Evangelische Mennoniten-Gemeinde%2C Altt%C3%A4ufer Bern":MAILTO:juerg.braeker@menno.ch
END:VEVENT
BEGIN:VEVENT
DTSTART;TZID=Europe/Berlin:20240421T100000
DTEND;TZID=Europe/Berlin:20240421T110000
DTSTAMP:20260419T144515
CREATED:20231212T154016Z
LAST-MODIFIED:20240105T171456Z
UID:10000345-1713693600-1713697200@mennoniten-bern.ch
SUMMARY:Gottesdienst mit Gastpredigt Jürg Rindlisbacher
DESCRIPTION:Jürg Rindlisbacher von der Mennonitengemeinde Brügg besucht uns mit einer Erzählpredigt.
URL:https://mennoniten-bern.ch/event/gottesdienst-mit-gastpredigt-juerg-rindlisbacher/
LOCATION:Träffer\, Schosshaldenstrasse 43\, Bern\, BE\, 3006\, Schweiz
CATEGORIES:Gottesdienst
ORGANIZER;CN="Evangelische Mennoniten-Gemeinde%2C Altt%C3%A4ufer Bern":MAILTO:juerg.braeker@menno.ch
END:VEVENT
BEGIN:VEVENT
DTSTART;TZID=Europe/Berlin:20240407T100000
DTEND;TZID=Europe/Berlin:20240407T110000
DTSTAMP:20260419T144515
CREATED:20231212T153837Z
LAST-MODIFIED:20240105T171602Z
UID:10000344-1712484000-1712487600@mennoniten-bern.ch
SUMMARY:Gottesdienst
DESCRIPTION:
URL:https://mennoniten-bern.ch/event/gottesdienst-37/
LOCATION:Träffer\, Schosshaldenstrasse 43\, Bern\, BE\, 3006\, Schweiz
CATEGORIES:Gottesdienst
ORGANIZER;CN="Evangelische Mennoniten-Gemeinde%2C Altt%C3%A4ufer Bern":MAILTO:juerg.braeker@menno.ch
END:VEVENT
BEGIN:VEVENT
DTSTART;TZID=Europe/Berlin:20240331T100000
DTEND;TZID=Europe/Berlin:20240331T110000
DTSTAMP:20260419T144515
CREATED:20231212T153734Z
LAST-MODIFIED:20240105T171641Z
UID:10000343-1711879200-1711882800@mennoniten-bern.ch
SUMMARY:Ostergottesdienst mit Abendmahl
DESCRIPTION:
URL:https://mennoniten-bern.ch/event/ostergottesdienst-mit-abendmahl/
LOCATION:Träffer\, Schosshaldenstrasse 43\, Bern\, BE\, 3006\, Schweiz
CATEGORIES:Gottesdienst
ORGANIZER;CN="Evangelische Mennoniten-Gemeinde%2C Altt%C3%A4ufer Bern":MAILTO:juerg.braeker@menno.ch
END:VEVENT
BEGIN:VEVENT
DTSTART;TZID=Europe/Berlin:20240329T100000
DTEND;TZID=Europe/Berlin:20240329T110000
DTSTAMP:20260419T144515
CREATED:20231212T153614Z
LAST-MODIFIED:20240105T171708Z
UID:10000342-1711706400-1711710000@mennoniten-bern.ch
SUMMARY:Karfreitagsgottesdienst
DESCRIPTION:
URL:https://mennoniten-bern.ch/event/karfreitagsgottesdienst/
LOCATION:Träffer\, Schosshaldenstrasse 43\, Bern\, BE\, 3006\, Schweiz
CATEGORIES:Gottesdienst
ORGANIZER;CN="Evangelische Mennoniten-Gemeinde%2C Altt%C3%A4ufer Bern":MAILTO:juerg.braeker@menno.ch
END:VEVENT
BEGIN:VEVENT
DTSTART;TZID=Europe/Berlin:20240326T143000
DTEND;TZID=Europe/Berlin:20240326T170000
DTSTAMP:20260419T144515
CREATED:20240313T180512Z
LAST-MODIFIED:20240313T180512Z
UID:10000380-1711463400-1711472400@mennoniten-bern.ch
SUMMARY:Treffen 60-plus
DESCRIPTION:
URL:https://mennoniten-bern.ch/event/treffen-60-plus-2/
LOCATION:Träffer\, Schosshaldenstrasse 43\, Bern\, BE\, 3006\, Schweiz
CATEGORIES:Diakonie
ORGANIZER;CN="Evangelische Mennoniten-Gemeinde%2C Altt%C3%A4ufer Bern":MAILTO:juerg.braeker@menno.ch
END:VEVENT
BEGIN:VEVENT
DTSTART;TZID=Europe/Berlin:20240317T100000
DTEND;TZID=Europe/Berlin:20240317T110000
DTSTAMP:20260419T144515
CREATED:20231212T153357Z
LAST-MODIFIED:20240105T171741Z
UID:10000341-1710669600-1710673200@mennoniten-bern.ch
SUMMARY:Gottesdienst mit Gastpredigt Christoph Knoch
DESCRIPTION:Christoph Knoch war bis zu seiner Pensionierung Pfarrer in der ev.-ref. Kirche in Gümligen und ist auch jetzt noch in vielen kirchlichen Bereichen tätig\, u.a. als Präsident der AKB. Als Ökumeniker ist ihm das Gespräch unter den verschiedenen kirchlichen Traditionen ein grosses Anliegen.
URL:https://mennoniten-bern.ch/event/gottesdienst-mit-gastpredigt-christoph-knoch/
LOCATION:Träffer\, Schosshaldenstrasse 43\, Bern\, BE\, 3006\, Schweiz
CATEGORIES:Gottesdienst
ORGANIZER;CN="Evangelische Mennoniten-Gemeinde%2C Altt%C3%A4ufer Bern":MAILTO:juerg.braeker@menno.ch
END:VEVENT
BEGIN:VEVENT
DTSTART;TZID=Europe/Berlin:20240309T100000
DTEND;TZID=Europe/Berlin:20240309T120000
DTSTAMP:20260419T144515
CREATED:20231212T152154Z
LAST-MODIFIED:20231212T152154Z
UID:10000338-1709978400-1709985600@mennoniten-bern.ch
SUMMARY:Mitgliederversammlung
DESCRIPTION:Die jährliche Mitgliederversammlung der Mennoniten-Gemeinde Bern findet dieses Jahr am Samstagmorgen\, 9. März 2024\, statt. Einladung und Traktanden werden per Post versandt.
URL:https://mennoniten-bern.ch/event/mitgliederversammlung/
LOCATION:Träffer\, Schosshaldenstrasse 43\, Bern\, BE\, 3006\, Schweiz
CATEGORIES:Gemeindeanlass
ORGANIZER;CN="Evangelische Mennoniten-Gemeinde%2C Altt%C3%A4ufer Bern":MAILTO:juerg.braeker@menno.ch
END:VEVENT
BEGIN:VEVENT
DTSTART;TZID=Europe/Berlin:20240303T100000
DTEND;TZID=Europe/Berlin:20240303T110000
DTSTAMP:20260419T144515
CREATED:20231212T151947Z
LAST-MODIFIED:20240105T171847Z
UID:10000337-1709460000-1709463600@mennoniten-bern.ch
SUMMARY:Gottesdienst
DESCRIPTION:
URL:https://mennoniten-bern.ch/event/gottesdienst-27/
LOCATION:Träffer\, Schosshaldenstrasse 43\, Bern\, BE\, 3006\, Schweiz
CATEGORIES:Gottesdienst
ORGANIZER;CN="Evangelische Mennoniten-Gemeinde%2C Altt%C3%A4ufer Bern":MAILTO:juerg.braeker@menno.ch
END:VEVENT
BEGIN:VEVENT
DTSTART;TZID=Europe/Berlin:20240218T100000
DTEND;TZID=Europe/Berlin:20240218T110000
DTSTAMP:20260419T144515
CREATED:20230811T152050Z
LAST-MODIFIED:20231231T081930Z
UID:10000327-1708250400-1708254000@mennoniten-bern.ch
SUMMARY:Gottesdienst
DESCRIPTION:
URL:https://mennoniten-bern.ch/event/gottesdienst-36/
LOCATION:Träffer\, Schosshaldenstrasse 43\, Bern\, BE\, 3006\, Schweiz
CATEGORIES:Gottesdienst,JG
ORGANIZER;CN="Evangelische Mennoniten-Gemeinde%2C Altt%C3%A4ufer Bern":MAILTO:juerg.braeker@menno.ch
END:VEVENT
BEGIN:VEVENT
DTSTART;TZID=Europe/Berlin:20240204T100000
DTEND;TZID=Europe/Berlin:20240204T110000
DTSTAMP:20260419T144515
CREATED:20230811T151920Z
LAST-MODIFIED:20230811T151920Z
UID:10000326-1707040800-1707044400@mennoniten-bern.ch
SUMMARY:Gottesdienst
DESCRIPTION:
URL:https://mennoniten-bern.ch/event/gottesdienst-35/
LOCATION:Träffer\, Schosshaldenstrasse 43\, Bern\, BE\, 3006\, Schweiz
CATEGORIES:Gottesdienst
ORGANIZER;CN="Evangelische Mennoniten-Gemeinde%2C Altt%C3%A4ufer Bern":MAILTO:juerg.braeker@menno.ch
END:VEVENT
BEGIN:VEVENT
DTSTART;TZID=Europe/Berlin:20240130T153000
DTEND;TZID=Europe/Berlin:20240130T170000
DTSTAMP:20260419T144515
CREATED:20231212T162732Z
LAST-MODIFIED:20231212T162732Z
UID:10000349-1706628600-1706634000@mennoniten-bern.ch
SUMMARY:Nachmittag 60 plus
DESCRIPTION:
URL:https://mennoniten-bern.ch/event/nachmittag-60-plus-13/
LOCATION:Träffer\, Schosshaldenstrasse 43\, Bern\, BE\, 3006\, Schweiz
CATEGORIES:Diakonie
ORGANIZER;CN="Evangelische Mennoniten-Gemeinde%2C Altt%C3%A4ufer Bern":MAILTO:juerg.braeker@menno.ch
END:VEVENT
BEGIN:VEVENT
DTSTART;TZID=Europe/Berlin:20240122T193000
DTEND;TZID=Europe/Berlin:20240122T220000
DTSTAMP:20260419T144515
CREATED:20231212T162207Z
LAST-MODIFIED:20231212T162325Z
UID:10000348-1705951800-1705960800@mennoniten-bern.ch
SUMMARY:Sitzung Vorstand Mennoniten-Gemeinde Bern
DESCRIPTION:
URL:https://mennoniten-bern.ch/event/vorstandssitzung/
LOCATION:Träffer\, Schosshaldenstrasse 43\, Bern\, BE\, 3006\, Schweiz
CATEGORIES:Leitungskreis
ORGANIZER;CN="Evangelische Mennoniten-Gemeinde%2C Altt%C3%A4ufer Bern":MAILTO:juerg.braeker@menno.ch
END:VEVENT
BEGIN:VEVENT
DTSTART;TZID=Europe/Berlin:20240114T100000
DTEND;TZID=Europe/Berlin:20240114T110000
DTSTAMP:20260419T144515
CREATED:20230811T151459Z
LAST-MODIFIED:20230811T151459Z
UID:10000323-1705226400-1705230000@mennoniten-bern.ch
SUMMARY:Gottesdienst
DESCRIPTION:
URL:https://mennoniten-bern.ch/event/gottesdienst-34/
LOCATION:Träffer\, Schosshaldenstrasse 43\, Bern\, BE\, 3006\, Schweiz
CATEGORIES:Gottesdienst
ORGANIZER;CN="Evangelische Mennoniten-Gemeinde%2C Altt%C3%A4ufer Bern":MAILTO:juerg.braeker@menno.ch
END:VEVENT
BEGIN:VEVENT
DTSTART;TZID=Europe/Berlin:20240107T100000
DTEND;TZID=Europe/Berlin:20240107T120000
DTSTAMP:20260419T144515
CREATED:20230811T151339Z
LAST-MODIFIED:20230811T151339Z
UID:10000322-1704621600-1704628800@mennoniten-bern.ch
SUMMARY:Gottesdienst
DESCRIPTION:Gottesdienst zum neuen Jahr mit anschliessendem Apéro
URL:https://mennoniten-bern.ch/event/gottesdienst-33/
LOCATION:Träffer\, Schosshaldenstrasse 43\, Bern\, BE\, 3006\, Schweiz
CATEGORIES:Gemeindeanlass,Gottesdienst
ORGANIZER;CN="Evangelische Mennoniten-Gemeinde%2C Altt%C3%A4ufer Bern":MAILTO:juerg.braeker@menno.ch
END:VEVENT
BEGIN:VEVENT
DTSTART;TZID=Europe/Berlin:20231225T100000
DTEND;TZID=Europe/Berlin:20231225T110000
DTSTAMP:20260419T144515
CREATED:20221214T170316Z
LAST-MODIFIED:20230811T151124Z
UID:10000295-1703498400-1703502000@mennoniten-bern.ch
SUMMARY:Weihnachtsgottesdienst
DESCRIPTION:
URL:https://mennoniten-bern.ch/event/weihnachtsgottesdienst-2/
LOCATION:Träffer\, Schosshaldenstrasse 43\, Bern\, BE\, 3006\, Schweiz
CATEGORIES:Gottesdienst
ORGANIZER;CN="Evangelische Mennoniten-Gemeinde%2C Altt%C3%A4ufer Bern":MAILTO:juerg.braeker@menno.ch
END:VEVENT
BEGIN:VEVENT
DTSTART;TZID=Europe/Berlin:20231219T143000
DTEND;TZID=Europe/Berlin:20231219T163000
DTSTAMP:20260419T144515
CREATED:20221214T170421Z
LAST-MODIFIED:20221214T170421Z
UID:10000296-1702996200-1703003400@mennoniten-bern.ch
SUMMARY:Weihnachten 60 plus
DESCRIPTION:
URL:https://mennoniten-bern.ch/event/weihnachten-60-plus/
LOCATION:Träffer\, Schosshaldenstrasse 43\, Bern\, BE\, 3006\, Schweiz
CATEGORIES:Diakonie
ORGANIZER;CN="Evangelische Mennoniten-Gemeinde%2C Altt%C3%A4ufer Bern":MAILTO:juerg.braeker@menno.ch
END:VEVENT
BEGIN:VEVENT
DTSTART;TZID=Europe/Berlin:20231217T100000
DTEND;TZID=Europe/Berlin:20231217T110000
DTSTAMP:20260419T144515
CREATED:20221214T170146Z
LAST-MODIFIED:20231119T120937Z
UID:10000293-1702807200-1702810800@mennoniten-bern.ch
SUMMARY:Singgottesdienst zum 3. Advent
DESCRIPTION:Wir finden uns ein in der Adventszeit mit Liedern\, Gebeten\, Texten. \nMit Manuela Roth\, Ursula Wenziker und Christa Gerber
URL:https://mennoniten-bern.ch/event/gottesdienst-zum-3-advent/
LOCATION:Träffer\, Schosshaldenstrasse 43\, Bern\, BE\, 3006\, Schweiz
CATEGORIES:Gottesdienst
ORGANIZER;CN="Evangelische Mennoniten-Gemeinde%2C Altt%C3%A4ufer Bern":MAILTO:juerg.braeker@menno.ch
END:VEVENT
BEGIN:VEVENT
DTSTART;TZID=Europe/Berlin:20231210T100000
DTEND;TZID=Europe/Berlin:20231210T110000
DTSTAMP:20260419T144515
CREATED:20221214T170026Z
LAST-MODIFIED:20230811T150851Z
UID:10000292-1702202400-1702206000@mennoniten-bern.ch
SUMMARY:Gottesdienst zum 2. Advent
DESCRIPTION:
URL:https://mennoniten-bern.ch/event/gottesdienst-zum-2-advent-2/
LOCATION:Träffer\, Schosshaldenstrasse 43\, Bern\, BE\, 3006\, Schweiz
CATEGORIES:Gottesdienst
ORGANIZER;CN="Evangelische Mennoniten-Gemeinde%2C Altt%C3%A4ufer Bern":MAILTO:juerg.braeker@menno.ch
END:VEVENT
BEGIN:VEVENT
DTSTART;TZID=Europe/Berlin:20231208T180000
DTEND;TZID=Europe/Berlin:20231208T200000
DTSTAMP:20260419T144515
CREATED:20231208T122229Z
LAST-MODIFIED:20231208T122229Z
UID:10000334-1702058400-1702065600@mennoniten-bern.ch
SUMMARY:Adventsfenster im Träffer
DESCRIPTION:Im Schosshalden- und Obstbergquartier öffnet in der Adventszeit Tag um Tag ein neues Adventsfenster. Das Fenster im Träffer wird mit einem besonderen Anlass eröffnet: Ab 18 Uhr gibt es Suppe\, danach gemeinsames Singen von Adventsliedern\, unter der Leitung von Christa Geber. Herzliche Einladung!
URL:https://mennoniten-bern.ch/event/adventsfenster-im-traeffer/
LOCATION:Träffer\, Schosshaldenstrasse 43\, Bern\, BE\, 3006\, Schweiz
ORGANIZER;CN="Evangelische Mennoniten-Gemeinde%2C Altt%C3%A4ufer Bern":MAILTO:juerg.braeker@menno.ch
END:VEVENT
BEGIN:VEVENT
DTSTART;TZID=Europe/Berlin:20231203T100000
DTEND;TZID=Europe/Berlin:20231203T110000
DTSTAMP:20260419T144515
CREATED:20221214T165942Z
LAST-MODIFIED:20231119T121103Z
UID:10000291-1701597600-1701601200@mennoniten-bern.ch
SUMMARY:Gottesdienst zum 1. Advent\, mit Abendmahl
DESCRIPTION:Gottesdienst mit Abendmahl. \nWir feiern mit den Gaben der Schöpfung das Versprechen Jesu\, unter uns gegenwärtig zu sein.
URL:https://mennoniten-bern.ch/event/gottesdienst-zum-1-advent/
LOCATION:Träffer\, Schosshaldenstrasse 43\, Bern\, BE\, 3006\, Schweiz
CATEGORIES:Gottesdienst
ORGANIZER;CN="Evangelische Mennoniten-Gemeinde%2C Altt%C3%A4ufer Bern":MAILTO:juerg.braeker@menno.ch
END:VEVENT
BEGIN:VEVENT
DTSTART;TZID=Europe/Berlin:20231128T143000
DTEND;TZID=Europe/Berlin:20231128T163000
DTSTAMP:20260419T144515
CREATED:20221214T171700Z
LAST-MODIFIED:20221214T171700Z
UID:10000306-1701181800-1701189000@mennoniten-bern.ch
SUMMARY:Nachmittag 60 plus
DESCRIPTION:
URL:https://mennoniten-bern.ch/event/nachmittag-60-plus-12/
LOCATION:Träffer\, Schosshaldenstrasse 43\, Bern\, BE\, 3006\, Schweiz
CATEGORIES:Diakonie
ORGANIZER;CN="Evangelische Mennoniten-Gemeinde%2C Altt%C3%A4ufer Bern":MAILTO:juerg.braeker@menno.ch
END:VEVENT
BEGIN:VEVENT
DTSTART;VALUE=DATE:20231126
DTEND;VALUE=DATE:20231127
DTSTAMP:20260419T144515
CREATED:20221214T165739Z
LAST-MODIFIED:20221214T165739Z
UID:10000290-1700956800-1701043199@mennoniten-bern.ch
SUMMARY:kein Gottesdienst
DESCRIPTION:
URL:https://mennoniten-bern.ch/event/kein-gottesdienst-26/
LOCATION:Träffer\, Schosshaldenstrasse 43\, Bern\, BE\, 3006\, Schweiz
CATEGORIES:Gottesdienst
ORGANIZER;CN="Evangelische Mennoniten-Gemeinde%2C Altt%C3%A4ufer Bern":MAILTO:juerg.braeker@menno.ch
END:VEVENT
BEGIN:VEVENT
DTSTART;TZID=Europe/Berlin:20231119T100000
DTEND;TZID=Europe/Berlin:20231119T110000
DTSTAMP:20260419T144515
CREATED:20221214T165146Z
LAST-MODIFIED:20231025T174002Z
UID:10000288-1700388000-1700391600@mennoniten-bern.ch
SUMMARY:Kantatengottesdienst
DESCRIPTION:Die Kantate von Johann Sebastian Bach „Die Elenden sollen essen“ BWV 75 gibt uns den Leitfaden durch den Gottesdienst.
URL:https://mennoniten-bern.ch/event/gottesdienst-30/
LOCATION:Träffer\, Schosshaldenstrasse 43\, Bern\, BE\, 3006\, Schweiz
CATEGORIES:Gottesdienst
ORGANIZER;CN="Evangelische Mennoniten-Gemeinde%2C Altt%C3%A4ufer Bern":MAILTO:juerg.braeker@menno.ch
END:VEVENT
END:VCALENDAR