BEGIN:VCALENDAR
VERSION:2.0
PRODID:-//Evangelische Mennoniten-Gemeinde Bern, Alttäufer - ECPv6.15.19//NONSGML v1.0//EN
CALSCALE:GREGORIAN
METHOD:PUBLISH
X-ORIGINAL-URL:https://mennoniten-bern.ch
X-WR-CALDESC:Veranstaltungen für Evangelische Mennoniten-Gemeinde Bern, Alttäufer
REFRESH-INTERVAL;VALUE=DURATION:PT1H
X-Robots-Tag:noindex
X-PUBLISHED-TTL:PT1H
BEGIN:VTIMEZONE
TZID:Europe/Berlin
BEGIN:DAYLIGHT
TZOFFSETFROM:+0100
TZOFFSETTO:+0200
TZNAME:CEST
DTSTART:20230326T010000
END:DAYLIGHT
BEGIN:STANDARD
TZOFFSETFROM:+0200
TZOFFSETTO:+0100
TZNAME:CET
DTSTART:20231029T010000
END:STANDARD
BEGIN:DAYLIGHT
TZOFFSETFROM:+0100
TZOFFSETTO:+0200
TZNAME:CEST
DTSTART:20240331T010000
END:DAYLIGHT
BEGIN:STANDARD
TZOFFSETFROM:+0200
TZOFFSETTO:+0100
TZNAME:CET
DTSTART:20241027T010000
END:STANDARD
BEGIN:DAYLIGHT
TZOFFSETFROM:+0100
TZOFFSETTO:+0200
TZNAME:CEST
DTSTART:20250330T010000
END:DAYLIGHT
BEGIN:STANDARD
TZOFFSETFROM:+0200
TZOFFSETTO:+0100
TZNAME:CET
DTSTART:20251026T010000
END:STANDARD
END:VTIMEZONE
BEGIN:VEVENT
DTSTART;TZID=Europe/Berlin:20241109T183000
DTEND;TZID=Europe/Berlin:20241109T230000
DTSTAMP:20260421T184609
CREATED:20241010T115658Z
LAST-MODIFIED:20241010T121911Z
UID:10000426-1731177000-1731193200@mennoniten-bern.ch
SUMMARY:Nacht der Religionen
DESCRIPTION:Meine Stimme\,\nDeine Stimme\,\nUnsere Welt.\nDie Nacht der Religionen bietet Gelegenheit\, verschiedenen Religionsgemeinschaften aus Bern und Umgebung zu begegnen. Sie wird gemeinsam organisiert von AKiB und dem Haus der Religionen. \nEröffnung\nBerner Ratshaus\, Gorssratssaal\, Rathausplatz 2\, 3011 Bern \n18:00 Türöffnung \n18:30 Eröffnung im Berner Ratshaus mit Musik\, Gespräch und Tanz. Mit Interkulturellem Chor Worb\, ND Light u.a. \n19:30 Stimmen im Grossratssaal \nProgramm\nan verschiedenen Orten in Bern\, siehe Flyer Nacht der Religionen
URL:https://mennoniten-bern.ch/event/nacht-der-religionen-3/
LOCATION:Träffer\, Schosshaldenstrasse 43\, Bern\, BE\, 3006\, Schweiz
CATEGORIES:Gesamtstädtisch Bern
ORGANIZER;CN="AKiB Arbeitsgemeinschaft der Kirchen in der Region Bern":MAILTO:info@akib.ch
END:VEVENT
END:VCALENDAR