BEGIN:VCALENDAR
VERSION:2.0
PRODID:-//Evangelische Mennoniten-Gemeinde Bern, Alttäufer - ECPv6.15.19//NONSGML v1.0//EN
CALSCALE:GREGORIAN
METHOD:PUBLISH
X-WR-CALNAME:Evangelische Mennoniten-Gemeinde Bern, Alttäufer
X-ORIGINAL-URL:https://mennoniten-bern.ch
X-WR-CALDESC:Veranstaltungen für Evangelische Mennoniten-Gemeinde Bern, Alttäufer
REFRESH-INTERVAL;VALUE=DURATION:PT1H
X-Robots-Tag:noindex
X-PUBLISHED-TTL:PT1H
BEGIN:VTIMEZONE
TZID:Europe/Berlin
BEGIN:DAYLIGHT
TZOFFSETFROM:+0100
TZOFFSETTO:+0200
TZNAME:CEST
DTSTART:20250330T010000
END:DAYLIGHT
BEGIN:STANDARD
TZOFFSETFROM:+0200
TZOFFSETTO:+0100
TZNAME:CET
DTSTART:20251026T010000
END:STANDARD
BEGIN:DAYLIGHT
TZOFFSETFROM:+0100
TZOFFSETTO:+0200
TZNAME:CEST
DTSTART:20260329T010000
END:DAYLIGHT
BEGIN:STANDARD
TZOFFSETFROM:+0200
TZOFFSETTO:+0100
TZNAME:CET
DTSTART:20261025T010000
END:STANDARD
BEGIN:DAYLIGHT
TZOFFSETFROM:+0100
TZOFFSETTO:+0200
TZNAME:CEST
DTSTART:20270328T010000
END:DAYLIGHT
BEGIN:STANDARD
TZOFFSETFROM:+0200
TZOFFSETTO:+0100
TZNAME:CET
DTSTART:20271031T010000
END:STANDARD
END:VTIMEZONE
BEGIN:VEVENT
DTSTART;TZID=Europe/Berlin:20260607T100000
DTEND;TZID=Europe/Berlin:20260607T110000
DTSTAMP:20260421T180511
CREATED:20251208T161443Z
LAST-MODIFIED:20251208T161455Z
UID:10000527-1780826400-1780830000@mennoniten-bern.ch
SUMMARY:Gottesdienst
DESCRIPTION:Kollekte zugunsten der MJKS
URL:https://mennoniten-bern.ch/event/gottesdienst-67/
LOCATION:Träffer\, Schosshaldenstrasse 43\, Bern\, BE\, 3006\, Schweiz
CATEGORIES:Gottesdienst
ORGANIZER;CN="Evangelische Mennoniten-Gemeinde%2C Altt%C3%A4ufer Bern":MAILTO:juerg.braeker@menno.ch
END:VEVENT
BEGIN:VEVENT
DTSTART;TZID=Europe/Berlin:20260614T170000
DTEND;TZID=Europe/Berlin:20260614T190000
DTSTAMP:20260421T180511
CREATED:20251208T161724Z
LAST-MODIFIED:20251208T161800Z
UID:10000528-1781456400-1781463600@mennoniten-bern.ch
SUMMARY:Klang – Wort – Stille
DESCRIPTION:Einen Moment innehalten\, mit Texten\, Klängen und Stille. \nAnschliessend sind alle eingeladen zu einem einfachen Abendessen. \nMit Richard Weber und Kathy Gerber.
URL:https://mennoniten-bern.ch/event/klang-wort-stille-7/
LOCATION:Träffer\, Schosshaldenstrasse 43\, Bern\, BE\, 3006\, Schweiz
CATEGORIES:Gottesdienst
ORGANIZER;CN="Evangelische Mennoniten-Gemeinde%2C Altt%C3%A4ufer Bern":MAILTO:juerg.braeker@menno.ch
END:VEVENT
BEGIN:VEVENT
DTSTART;TZID=Europe/Berlin:20260621T100000
DTEND;TZID=Europe/Berlin:20260621T110000
DTSTAMP:20260421T180511
CREATED:20251208T161836Z
LAST-MODIFIED:20251208T162013Z
UID:10000529-1782036000-1782039600@mennoniten-bern.ch
SUMMARY:Der andere Sonntagmorgen
DESCRIPTION:Liliane Zürcher und Team
URL:https://mennoniten-bern.ch/event/der-andere-sonntagmorgen-6/
LOCATION:Träffer\, Schosshaldenstrasse 43\, Bern\, BE\, 3006\, Schweiz
CATEGORIES:Gottesdienst
ORGANIZER;CN="Evangelische Mennoniten-Gemeinde%2C Altt%C3%A4ufer Bern":MAILTO:juerg.braeker@menno.ch
END:VEVENT
BEGIN:VEVENT
DTSTART;VALUE=DATE:20260628
DTEND;VALUE=DATE:20260629
DTSTAMP:20260421T180511
CREATED:20251208T161951Z
LAST-MODIFIED:20251208T161951Z
UID:10000530-1782604800-1782691199@mennoniten-bern.ch
SUMMARY:kein Gottesdienst im Träffer
DESCRIPTION:
URL:https://mennoniten-bern.ch/event/kein-gottesdienst-im-traeffer-28/
LOCATION:Träffer\, Schosshaldenstrasse 43\, Bern\, BE\, 3006\, Schweiz
CATEGORIES:Gottesdienst
ORGANIZER;CN="Evangelische Mennoniten-Gemeinde%2C Altt%C3%A4ufer Bern":MAILTO:juerg.braeker@menno.ch
END:VEVENT
BEGIN:VEVENT
DTSTART;TZID=Europe/Berlin:20260630T143000
DTEND;TZID=Europe/Berlin:20260630T170000
DTSTAMP:20260421T180511
CREATED:20260327T114445Z
LAST-MODIFIED:20260327T114523Z
UID:10000562-1782829800-1782838800@mennoniten-bern.ch
SUMMARY:Treffen 60 plus
DESCRIPTION:Markus Gerber berichtet aus seinem Alltag als Fahrer im Behindertentransportdienst.
URL:https://mennoniten-bern.ch/event/treffen-60-plus-9/
LOCATION:Träffer\, Schosshaldenstrasse 43\, Bern\, BE\, 3006\, Schweiz
CATEGORIES:Diakonie
ORGANIZER;CN="Evangelische Mennoniten-Gemeinde%2C Altt%C3%A4ufer Bern":MAILTO:juerg.braeker@menno.ch
END:VEVENT
END:VCALENDAR