BEGIN:VCALENDAR
VERSION:2.0
PRODID:-//Evangelische Mennoniten-Gemeinde Bern, Alttäufer - ECPv6.15.19//NONSGML v1.0//EN
CALSCALE:GREGORIAN
METHOD:PUBLISH
X-WR-CALNAME:Evangelische Mennoniten-Gemeinde Bern, Alttäufer
X-ORIGINAL-URL:https://mennoniten-bern.ch
X-WR-CALDESC:Veranstaltungen für Evangelische Mennoniten-Gemeinde Bern, Alttäufer
REFRESH-INTERVAL;VALUE=DURATION:PT1H
X-Robots-Tag:noindex
X-PUBLISHED-TTL:PT1H
BEGIN:VTIMEZONE
TZID:Europe/Berlin
BEGIN:DAYLIGHT
TZOFFSETFROM:+0100
TZOFFSETTO:+0200
TZNAME:CEST
DTSTART:20250330T010000
END:DAYLIGHT
BEGIN:STANDARD
TZOFFSETFROM:+0200
TZOFFSETTO:+0100
TZNAME:CET
DTSTART:20251026T010000
END:STANDARD
BEGIN:DAYLIGHT
TZOFFSETFROM:+0100
TZOFFSETTO:+0200
TZNAME:CEST
DTSTART:20260329T010000
END:DAYLIGHT
BEGIN:STANDARD
TZOFFSETFROM:+0200
TZOFFSETTO:+0100
TZNAME:CET
DTSTART:20261025T010000
END:STANDARD
BEGIN:DAYLIGHT
TZOFFSETFROM:+0100
TZOFFSETTO:+0200
TZNAME:CEST
DTSTART:20270328T010000
END:DAYLIGHT
BEGIN:STANDARD
TZOFFSETFROM:+0200
TZOFFSETTO:+0100
TZNAME:CET
DTSTART:20271031T010000
END:STANDARD
END:VTIMEZONE
BEGIN:VEVENT
DTSTART;TZID=Europe/Berlin:20260503T100000
DTEND;TZID=Europe/Berlin:20260503T110000
DTSTAMP:20260423T100340
CREATED:20251208T155225Z
LAST-MODIFIED:20251208T155225Z
UID:10000520-1777802400-1777806000@mennoniten-bern.ch
SUMMARY:Gottesdienst
DESCRIPTION:
URL:https://mennoniten-bern.ch/event/gottesdienst-66/
LOCATION:Träffer\, Schosshaldenstrasse 43\, Bern\, BE\, 3006\, Schweiz
CATEGORIES:Gottesdienst
ORGANIZER;CN="Evangelische Mennoniten-Gemeinde%2C Altt%C3%A4ufer Bern":MAILTO:juerg.braeker@menno.ch
END:VEVENT
BEGIN:VEVENT
DTSTART;TZID=Europe/Berlin:20260508T170000
DTEND;TZID=Europe/Berlin:20260509T120000
DTSTAMP:20260423T100340
CREATED:20251208T155437Z
LAST-MODIFIED:20260414T121739Z
UID:10000522-1778259600-1778328000@mennoniten-bern.ch
SUMMARY:Retraite Älteste\, Vorstand und Diakonie
DESCRIPTION:
URL:https://mennoniten-bern.ch/event/retraite-vorstand-und-diakonie/
LOCATION:Träffer\, Schosshaldenstrasse 43\, Bern\, BE\, 3006\, Schweiz
CATEGORIES:Diakonie,Gemeindeanlass
ORGANIZER;CN="Evangelische Mennoniten-Gemeinde%2C Altt%C3%A4ufer Bern":MAILTO:juerg.braeker@menno.ch
END:VEVENT
BEGIN:VEVENT
DTSTART;TZID=Europe/Berlin:20260510T100000
DTEND;TZID=Europe/Berlin:20260510T110000
DTSTAMP:20260423T100340
CREATED:20251208T155349Z
LAST-MODIFIED:20260414T121833Z
UID:10000521-1778407200-1778410800@mennoniten-bern.ch
SUMMARY:Gottesdienst mit Gastpredigt von Eliane Gerber
DESCRIPTION:
URL:https://mennoniten-bern.ch/event/gottesdienst-mit-gastpredigt-von-eliane-gerber/
LOCATION:Träffer\, Schosshaldenstrasse 43\, Bern\, BE\, 3006\, Schweiz
CATEGORIES:Gottesdienst
ORGANIZER;CN="Evangelische Mennoniten-Gemeinde%2C Altt%C3%A4ufer Bern":MAILTO:juerg.braeker@menno.ch
END:VEVENT
BEGIN:VEVENT
DTSTART;VALUE=DATE:20260514
DTEND;VALUE=DATE:20260518
DTSTAMP:20260423T100340
CREATED:20251208T160022Z
LAST-MODIFIED:20251208T161602Z
UID:10000523-1778716800-1779062399@mennoniten-bern.ch
SUMMARY:CMERK 2026 in Amersfoort\, Niederlande
DESCRIPTION:Glaube bewegt – Tanzen im Strom – Move in Faith – Dancing in the Stream\nDie Mennonitische Europäische Regionalkonferenz findet rund alle 6 Jahre statt. Sie ist ein Ort der Begegnung\, gemeinsamer Besinnung und Feierns\, Diskussionen und Entdeckungen. \nAnmeldung ab 1. Januar 2026 \nhttps://cmerk2026.eu/de/
URL:https://mennoniten-bern.ch/event/cmerk-2026-in-amersfoort-niederlande/
LOCATION:De Ruijtuigenloods\, Piet Mondriaanplein 61\, Amersfoort\, Netherlands
CATEGORIES:Konferenz der Mennoniten der Schweiz
END:VEVENT
BEGIN:VEVENT
DTSTART;VALUE=DATE:20260517
DTEND;VALUE=DATE:20260518
DTSTAMP:20260423T100340
CREATED:20251208T161022Z
LAST-MODIFIED:20251208T161037Z
UID:10000524-1778976000-1779062399@mennoniten-bern.ch
SUMMARY:kein Gottesdienst im Träffer
DESCRIPTION:
URL:https://mennoniten-bern.ch/event/kein-gottesdienst-im-traeffer-27/
LOCATION:Träffer\, Schosshaldenstrasse 43\, Bern\, BE\, 3006\, Schweiz
CATEGORIES:Gottesdienst
ORGANIZER;CN="Evangelische Mennoniten-Gemeinde%2C Altt%C3%A4ufer Bern":MAILTO:juerg.braeker@menno.ch
END:VEVENT
BEGIN:VEVENT
DTSTART;TZID=Europe/Berlin:20260524T100000
DTEND;TZID=Europe/Berlin:20260524T100000
DTSTAMP:20260423T100340
CREATED:20251208T161110Z
LAST-MODIFIED:20251208T161242Z
UID:10000525-1779616800-1779616800@mennoniten-bern.ch
SUMMARY:Pfingstgottesdienst
DESCRIPTION:
URL:https://mennoniten-bern.ch/event/pfingstgottesdienst-3/
LOCATION:Träffer\, Schosshaldenstrasse 43\, Bern\, BE\, 3006\, Schweiz
CATEGORIES:Gottesdienst
ORGANIZER;CN="Evangelische Mennoniten-Gemeinde%2C Altt%C3%A4ufer Bern":MAILTO:juerg.braeker@menno.ch
END:VEVENT
BEGIN:VEVENT
DTSTART;TZID=Europe/Berlin:20260526T143000
DTEND;TZID=Europe/Berlin:20260526T170000
DTSTAMP:20260423T100340
CREATED:20260327T114304Z
LAST-MODIFIED:20260327T114304Z
UID:10000561-1779805800-1779814800@mennoniten-bern.ch
SUMMARY:Treffen 60 plus
DESCRIPTION:Wir singen Lieder und teilen Gedichte miteinander.
URL:https://mennoniten-bern.ch/event/treffen-60-plus-8/
LOCATION:Träffer\, Schosshaldenstrasse 43\, Bern\, BE\, 3006\, Schweiz
CATEGORIES:Diakonie
ORGANIZER;CN="Evangelische Mennoniten-Gemeinde%2C Altt%C3%A4ufer Bern":MAILTO:juerg.braeker@menno.ch
END:VEVENT
BEGIN:VEVENT
DTSTART;VALUE=DATE:20260531
DTEND;VALUE=DATE:20260601
DTSTAMP:20260423T100340
CREATED:20251208T161322Z
LAST-MODIFIED:20251208T161322Z
UID:10000526-1780185600-1780271999@mennoniten-bern.ch
SUMMARY:kein Gottesdient im Träffer
DESCRIPTION:
URL:https://mennoniten-bern.ch/event/kein-gottesdient-im-traeffer/
LOCATION:Träffer\, Schosshaldenstrasse 43\, Bern\, BE\, 3006\, Schweiz
CATEGORIES:Gottesdienst
ORGANIZER;CN="Evangelische Mennoniten-Gemeinde%2C Altt%C3%A4ufer Bern":MAILTO:juerg.braeker@menno.ch
END:VEVENT
END:VCALENDAR