BEGIN:VCALENDAR
VERSION:2.0
PRODID:-//Evangelische Mennoniten-Gemeinde Bern, Alttäufer - ECPv6.15.19//NONSGML v1.0//EN
CALSCALE:GREGORIAN
METHOD:PUBLISH
X-ORIGINAL-URL:https://mennoniten-bern.ch
X-WR-CALDESC:Veranstaltungen für Evangelische Mennoniten-Gemeinde Bern, Alttäufer
REFRESH-INTERVAL;VALUE=DURATION:PT1H
X-Robots-Tag:noindex
X-PUBLISHED-TTL:PT1H
BEGIN:VTIMEZONE
TZID:Europe/Berlin
BEGIN:DAYLIGHT
TZOFFSETFROM:+0100
TZOFFSETTO:+0200
TZNAME:CEST
DTSTART:20250330T010000
END:DAYLIGHT
BEGIN:STANDARD
TZOFFSETFROM:+0200
TZOFFSETTO:+0100
TZNAME:CET
DTSTART:20251026T010000
END:STANDARD
BEGIN:DAYLIGHT
TZOFFSETFROM:+0100
TZOFFSETTO:+0200
TZNAME:CEST
DTSTART:20260329T010000
END:DAYLIGHT
BEGIN:STANDARD
TZOFFSETFROM:+0200
TZOFFSETTO:+0100
TZNAME:CET
DTSTART:20261025T010000
END:STANDARD
BEGIN:DAYLIGHT
TZOFFSETFROM:+0100
TZOFFSETTO:+0200
TZNAME:CEST
DTSTART:20270328T010000
END:DAYLIGHT
BEGIN:STANDARD
TZOFFSETFROM:+0200
TZOFFSETTO:+0100
TZNAME:CET
DTSTART:20271031T010000
END:STANDARD
END:VTIMEZONE
BEGIN:VEVENT
DTSTART;TZID=Europe/Berlin:20260301T100000
DTEND;TZID=Europe/Berlin:20260301T110000
DTSTAMP:20260421T164224
CREATED:20251208T152843Z
LAST-MODIFIED:20260203T171547Z
UID:10000508-1772359200-1772362800@mennoniten-bern.ch
SUMMARY:Gottesdienst mit Gastpredigt von Ute Schneider Bögli
DESCRIPTION:Ute Schneider Bögli aus der Evangelischen Mennonitengemeinde Sonnenberg besucht uns mit einer Gastpredigt. \nSie war über viele Jahre Mitglied der Pastorale der Gemeinde.
URL:https://mennoniten-bern.ch/event/gottesdienst-mit-gastpredigt-von-ute-schneider-boegli/
LOCATION:Träffer\, Schosshaldenstrasse 43\, Bern\, BE\, 3006\, Schweiz
CATEGORIES:Gottesdienst
ORGANIZER;CN="Evangelische Mennoniten-Gemeinde%2C Altt%C3%A4ufer Bern":MAILTO:juerg.braeker@menno.ch
END:VEVENT
BEGIN:VEVENT
DTSTART;TZID=Europe/Berlin:20260308T100000
DTEND;TZID=Europe/Berlin:20260308T110000
DTSTAMP:20260421T164224
CREATED:20251208T152959Z
LAST-MODIFIED:20260219T155955Z
UID:10000509-1772964000-1772967600@mennoniten-bern.ch
SUMMARY:Gottesdienst mit Gastpredigt von Rosa Grädel
DESCRIPTION:Rosa Grädel war über viele Jahre Pfarrerin in der refomierten Kichgemeinde Nydegg und ist weiterhin in verschiedenen Kirchgemeinden aktiv. Wir freuen uns\, zum Frauentag vom 8. März wieder einmal einen Gottesdienst mit ihr zusammen zu feiern.
URL:https://mennoniten-bern.ch/event/gottesdienst-mit-gastpredigt-von-nelly-gerber-geiser/
LOCATION:Träffer\, Schosshaldenstrasse 43\, Bern\, BE\, 3006\, Schweiz
CATEGORIES:Gottesdienst
ORGANIZER;CN="Evangelische Mennoniten-Gemeinde%2C Altt%C3%A4ufer Bern":MAILTO:juerg.braeker@menno.ch
END:VEVENT
BEGIN:VEVENT
DTSTART;TZID=Europe/Berlin:20260315T100000
DTEND;TZID=Europe/Berlin:20260315T120000
DTSTAMP:20260421T164224
CREATED:20251208T153252Z
LAST-MODIFIED:20260309T165232Z
UID:10000510-1773568800-1773576000@mennoniten-bern.ch
SUMMARY:Der andere Sonntagmorgen
DESCRIPTION:Wir besuchen das Stadtkloster Frieden in Bern. Das Stadtkloster belebt das Areal und die Räume der Friedenskirche mit einer Gemeinschaft\, die im ehemaligen Pfarrhaus zuhause ist\, und mit verschiedenen Zusammenarbeiten mit dem Quartier. Das Stadtkloster ist ein Ort\, wo Gebet\, Gemeinschaft und Arbeit zusammenkommen. \nWir feiern eine Andacht und lernen mit einem Rundgang die Gemeinschaft und die Angebote des Stadtklosters kennen. Zum Abschluss sind alle zu einem Apéro eingeladen. Elsbeth Zürcher und Eveline Kernen gestalten zusammen mit Anna Gyger vom Stadtkloster Frieden den Morgen. \nWir empfehlen die Anreise mit ÖV. Das Stadtkloster ist am einfachsten von der Haltestelle Munzinger (Tramlinie 6\, Bus 31) zu erreichen. Vom Eingang Friedensstrasse 9 (Südwestseite) führt ein Lift auf Höhe der Kirche. Auch die Haltestelle Cäcilienstrasse (Tramlinie 6) ist nahe\, jedoch ist hier noch ein Anstieg zu bewältigen. \nhttps://www.stadtkloster-frieden.ch/
URL:https://mennoniten-bern.ch/event/der-andere-sonntagmorgen-4/
LOCATION:Stadtkloster Frieden\, Friedensstrasse 9\, Bern\, Bern\, 3007\, Switzerland
CATEGORIES:Gemeindeanlass
ORGANIZER;CN="Evangelische Mennoniten-Gemeinde%2C Altt%C3%A4ufer Bern":MAILTO:juerg.braeker@menno.ch
END:VEVENT
BEGIN:VEVENT
DTSTART;VALUE=DATE:20260321
DTEND;VALUE=DATE:20260322
DTSTAMP:20260421T164224
CREATED:20251208T153524Z
LAST-MODIFIED:20251208T153549Z
UID:10000511-1774051200-1774137599@mennoniten-bern.ch
SUMMARY:Delegiertenversammlung der KMS
DESCRIPTION:Die Konferenz der Mennoniten der Schweiz lädt zur Delegiertenversammlung nach Tavannes ein.
URL:https://mennoniten-bern.ch/event/delegiertenversammlung-der-kms-2/
LOCATION:Träffer\, Schosshaldenstrasse 43\, Bern\, BE\, 3006\, Schweiz
CATEGORIES:Konferenz der Mennoniten der Schweiz
ORGANIZER;CN="Evangelische Mennoniten-Gemeinde%2C Altt%C3%A4ufer Bern":MAILTO:juerg.braeker@menno.ch
END:VEVENT
BEGIN:VEVENT
DTSTART;VALUE=DATE:20260322
DTEND;VALUE=DATE:20260323
DTSTAMP:20260421T164224
CREATED:20251208T154334Z
LAST-MODIFIED:20251208T154334Z
UID:10000513-1774137600-1774223999@mennoniten-bern.ch
SUMMARY:kein Gottesdienst im Träffer
DESCRIPTION:
URL:https://mennoniten-bern.ch/event/kein-gottesdienst-im-traeffer-24/
LOCATION:Träffer\, Schosshaldenstrasse 43\, Bern\, BE\, 3006\, Schweiz
CATEGORIES:Gottesdienst
ORGANIZER;CN="Evangelische Mennoniten-Gemeinde%2C Altt%C3%A4ufer Bern":MAILTO:juerg.braeker@menno.ch
END:VEVENT
BEGIN:VEVENT
DTSTART;TZID=Europe/Berlin:20260328T100000
DTEND;TZID=Europe/Berlin:20260328T120000
DTSTAMP:20260421T164224
CREATED:20251208T153649Z
LAST-MODIFIED:20260309T170131Z
UID:10000512-1774692000-1774699200@mennoniten-bern.ch
SUMMARY:Mitgliederversammlung der Mennoniten-Gemeinde Bern
DESCRIPTION:Die Unterlagen zur jährlichen Mitgliederversammlung sind per Mail versandt worden. Die Jahresberichte wurden im Newsletter März veröffentlicht.
URL:https://mennoniten-bern.ch/event/mitgliederversammlung-der-mennoniten-gemeinde-bern-2/
LOCATION:Träffer\, Schosshaldenstrasse 43\, Bern\, BE\, 3006\, Schweiz
CATEGORIES:Gemeindeanlass
ORGANIZER;CN="Evangelische Mennoniten-Gemeinde%2C Altt%C3%A4ufer Bern":MAILTO:juerg.braeker@menno.ch
END:VEVENT
BEGIN:VEVENT
DTSTART;TZID=Europe/Berlin:20260329T100000
DTEND;TZID=Europe/Berlin:20260329T110000
DTSTAMP:20260421T164224
CREATED:20251208T154416Z
LAST-MODIFIED:20251208T154703Z
UID:10000514-1774778400-1774782000@mennoniten-bern.ch
SUMMARY:Gottesdienst zum Palmsonntag
DESCRIPTION:
URL:https://mennoniten-bern.ch/event/gottesdienst-zum-palmsonntag/
LOCATION:Träffer\, Schosshaldenstrasse 43\, Bern\, BE\, 3006\, Schweiz
CATEGORIES:Gottesdienst
ORGANIZER;CN="Evangelische Mennoniten-Gemeinde%2C Altt%C3%A4ufer Bern":MAILTO:juerg.braeker@menno.ch
END:VEVENT
BEGIN:VEVENT
DTSTART;TZID=Europe/Berlin:20260331T143000
DTEND;TZID=Europe/Berlin:20260331T170000
DTSTAMP:20260421T164224
CREATED:20260327T113807Z
LAST-MODIFIED:20260327T113807Z
UID:10000559-1774967400-1774976400@mennoniten-bern.ch
SUMMARY:Treffen 60 plus
DESCRIPTION:Die Senioren-Gruppe der Mennonitengemeinde Brügg besucht uns im Träffer in Bern.
URL:https://mennoniten-bern.ch/event/treffen-60-plus-5/
LOCATION:Träffer\, Schosshaldenstrasse 43\, Bern\, BE\, 3006\, Schweiz
CATEGORIES:Diakonie
ORGANIZER;CN="Evangelische Mennoniten-Gemeinde%2C Altt%C3%A4ufer Bern":MAILTO:juerg.braeker@menno.ch
END:VEVENT
END:VCALENDAR