BEGIN:VCALENDAR
VERSION:2.0
PRODID:-//Evangelische Mennoniten-Gemeinde Bern, Alttäufer - ECPv6.15.19//NONSGML v1.0//EN
CALSCALE:GREGORIAN
METHOD:PUBLISH
X-WR-CALNAME:Evangelische Mennoniten-Gemeinde Bern, Alttäufer
X-ORIGINAL-URL:https://mennoniten-bern.ch
X-WR-CALDESC:Veranstaltungen für Evangelische Mennoniten-Gemeinde Bern, Alttäufer
REFRESH-INTERVAL;VALUE=DURATION:PT1H
X-Robots-Tag:noindex
X-PUBLISHED-TTL:PT1H
BEGIN:VTIMEZONE
TZID:Europe/Berlin
BEGIN:DAYLIGHT
TZOFFSETFROM:+0100
TZOFFSETTO:+0200
TZNAME:CEST
DTSTART:20250330T010000
END:DAYLIGHT
BEGIN:STANDARD
TZOFFSETFROM:+0200
TZOFFSETTO:+0100
TZNAME:CET
DTSTART:20251026T010000
END:STANDARD
BEGIN:DAYLIGHT
TZOFFSETFROM:+0100
TZOFFSETTO:+0200
TZNAME:CEST
DTSTART:20260329T010000
END:DAYLIGHT
BEGIN:STANDARD
TZOFFSETFROM:+0200
TZOFFSETTO:+0100
TZNAME:CET
DTSTART:20261025T010000
END:STANDARD
BEGIN:DAYLIGHT
TZOFFSETFROM:+0100
TZOFFSETTO:+0200
TZNAME:CEST
DTSTART:20270328T010000
END:DAYLIGHT
BEGIN:STANDARD
TZOFFSETFROM:+0200
TZOFFSETTO:+0100
TZNAME:CET
DTSTART:20271031T010000
END:STANDARD
END:VTIMEZONE
BEGIN:VEVENT
DTSTART;TZID=Europe/Berlin:20260904T183000
DTEND;TZID=Europe/Berlin:20260904T200000
DTSTAMP:20260422T114545
CREATED:20260327T153339Z
LAST-MODIFIED:20260327T153532Z
UID:10000568-1788546600-1788552000@mennoniten-bern.ch
SUMMARY:Schöpfungsfeier in der Brocki Bern
DESCRIPTION:Die jährliche ökumenische Feier zum Beginn der Schöpfungszeit findet dieses Jahr an einem aussergewöhnlichen Ort statt: in der Bärner Brock. Die OEKU hat für die Schöpfungszeit 2026 das Thema gewählt „Wertvoll leben – der Mehrwert der Dinge“ Die Feier in Bern steht auch unter diesem Thema. Die Feier schliesst mit einem kleinen Apéro.
URL:https://mennoniten-bern.ch/event/schoepfungsfeier-in-der-brocki-bern/
LOCATION:Bärner Brocki\, Hofweg 5\, Bern\, Bern\, 3013\, Switzerland
CATEGORIES:Gesamtstädtisch Bern
ORGANIZER;CN="AKiB Arbeitsgemeinschaft der Kirchen in der Region Bern":MAILTO:info@akib.ch
END:VEVENT
END:VCALENDAR